BEGIN:VCALENDAR
VERSION:2.0
PRODID:-//ChamberMaster//Event Calendar 2.0//EN
METHOD:PUBLISH
X-PUBLISHED-TTL:P3D
REFRESH-INTERVAL:P3D
CALSCALE:GREGORIAN
BEGIN:VEVENT
DTSTART:20251009T220000Z
DTEND:20251010T000000Z
X-MICROSOFT-CDO-ALLDAYEVENT:FALSE
SUMMARY:2025 Everyday Entrepreneur - Sponsored by Altabank
DESCRIPTION:ARE YOU READY TO LAUNCH YOUR OWN BUSINESS?\n\nStart today with the Everyday Entrepreneur Program (EEP). The EEP program teaches entrepreneurs to identify and validate a business opportunity mitigating costly errors\, then build a solid 'go-to-market' strategy to successfully launch the business. Using a proven iterative process that drives opportunity and strategy based on real customer feedback\, which validates the product or service and the business model\, creating a quick path to revenue.\n\n\n\nThis course is hosted in partnership with Salt Lake Community College's The Mill Entrepreneurship Center.\n\n\n\nCourse Topics (10-week program) will include: \n\nWeek 1   Define Your Idea\n\nWeek 2   Find Your Customers\n\nWeek 3   Create a Virtual Prototype\n\nWeek 4   Build and Test and Your MVP & Business Model\n\nWeek 5   Review Your MVP and Prototype\n\nWeek 6   Create a Business Model Strategy\n\nWeek 7   Examine Your Financial Forecast\n\nWeek 8   Learn the DIY Marketing Strategy\n\nWeek 9   Pull It All Together\n\nWeek 10 Move Your Product to Market (Graduation)\n\n\n\nAdditionally\, you will meet with a business advisor to properly set up and register your business including licensing\, Intellectual Property\, trademarks\, and other business formation issues. Discuss funding options and review your business strategy and forecast.
X-ALT-DESC;FMTTYPE=text/html:<div>\n<p --font-size:="" --line-height:="" line-height:="" yafobo6dqss=""><strong><span style="font-size:16px\;"><span style="font-family:arial\;">ARE YOU READY TO LAUNCH YOUR OWN BUSINESS?</span></span></strong></p>\n\n<p --font-size:="" --line-height:="" line-height:="" yafobo6dqss=""><span style="font-size:16px\;"><span style="font-family:arial\;">Start today with the Everyday Entrepreneur Program (EEP). The EEP program teaches entrepreneurs to identify and validate a business opportunity mitigating costly errors\, then build a solid &#39\;go-to-market&#39\; strategy to successfully launch the business. Using a proven iterative process that drives opportunity and strategy based on real customer feedback\, which validates the product or service and the business model\, creating a quick path to revenue.<br />\n<br />\nThis course is hosted in partnership with Salt Lake Community College&#39\;s The Mill Entrepreneurship Center.<br />\n<br />\nCourse Topics (10-week program) will include:&nbsp\;</span></span></p>\n\n<p --font-size:="" --line-height:="" line-height:="" yafobo6dqss=""><span style="font-size:16px\;"><span style="font-family:arial\;">Week 1&nbsp\; &nbsp\;Define Your Idea</span></span><br />\n<span style="font-family: arial\; font-size: 16px\;">Week 2&nbsp\; &nbsp\;</span><span style="font-family: arial\; font-size: 16px\;">Find Your Customers</span><br />\n<span style="font-family: arial\; font-size: 16px\;">Week 3&nbsp\; &nbsp\;</span><span style="font-family: arial\; font-size: 16px\;">Create a Virtual Prototype</span><br />\n<span style="font-family: arial\; font-size: 16px\;">Week 4&nbsp\; &nbsp\;</span><span style="font-family: arial\; font-size: 16px\;">Build and Test and Your MVP &amp\; Business Model</span><br />\n<span style="font-family: arial\; font-size: 16px\;">Week 5&nbsp\; &nbsp\;</span><span style="font-family: arial\; font-size: 16px\;">Review Your MVP and Prototype</span><br />\n<span style="font-family: arial\; font-size: 16px\;">Week 6&nbsp\; &nbsp\;</span><span style="font-family: arial\; font-size: 16px\;">Create a Business Model Strategy</span><br />\n<span style="font-family: arial\; font-size: 16px\;">Week 7&nbsp\; &nbsp\;</span><span style="font-family: arial\; font-size: 16px\;">Examine Your Financial Forecast</span><br />\n<span style="font-family: arial\; font-size: 16px\;">Week 8&nbsp\; &nbsp\;</span><span style="font-family: arial\; font-size: 16px\;">Learn the DIY Marketing Strategy</span><br />\n<span style="font-family: arial\; font-size: 16px\;">Week 9&nbsp\; &nbsp\;</span><span style="font-family: arial\; font-size: 16px\;">Pull It All Together</span><br />\n<span style="font-family: arial\; font-size: 16px\;">Week 10&nbsp\;</span><span style="font-size:16px\;"><span style="font-family:arial\;">Move Your Product to Market (Graduation)<br />\n<br />\nAdditionally\, you will meet with a business advisor to properly set up and register your business including licensing\, Intellectual Property\, trademarks\, and other business formation issues. Discuss funding options and review your business strategy and forecast.</span></span></p>\n</div>\n
LOCATION:The Mill at Salt Lake Community College Miller Campus at 9690 South 300 West in Sandy
UID:e.1263.15183
SEQUENCE:3
DTSTAMP:20260420T154756Z
URL:http://business.southvalleychamber.com/events/details/2025-everyday-entrepreneur-sponsored-by-altabank-10-09-2025-15183
END:VEVENT

END:VCALENDAR
