BEGIN:VCALENDAR
VERSION:2.0
PRODID:-//ChamberMaster//Event Calendar 2.0//EN
METHOD:PUBLISH
X-PUBLISHED-TTL:P3D
REFRESH-INTERVAL:P3D
CALSCALE:GREGORIAN
BEGIN:VEVENT
DTSTART;VALUE=DATE:20250912
DTEND;VALUE=DATE:20250913
TRANSP:TRANSPARENT
X-MICROSOFT-CDO-ALLDAYEVENT:TRUE
SUMMARY:2025 Glenmoor Chamber Golf Tournament
DESCRIPTION:For Player\, Tournament Sponsorship\, and Hole Sponsorship availability\, please contact Dana Reid at dana@southvalleychamber.com.
X-ALT-DESC;FMTTYPE=text/html:<p style="color: rgb(36\, 36\, 36)\; font-size: 11pt\; font-family: Calibri\, sans-serif\; margin: 0px\; line-height: 1.5\;"><span style="color: rgb(36\, 36\, 36)\; font-family: arial\; font-size: 16px\;">For Player\,&nbsp\;Tournament&nbsp\;</span><span style="color: rgb(36\, 36\, 36)\; font-family: arial\; font-size: 16px\;">Sponsorship\,&nbsp\;</span><span style="color: rgb(36\, 36\, 36)\; font-family: arial\; font-size: 16px\;">and&nbsp\;Hole Sponsorship&nbsp\;availability\, please contact Dana Reid at dana@southvalleychamber.com.&nbsp\;</span></p>\n
LOCATION:Glenmoor Golf Club 9800 S 4800 W in South Jordan
UID:e.1263.15106
SEQUENCE:3
DTSTAMP:20260420T195819Z
URL:http://business.southvalleychamber.com/events/details/2025-glenmoor-chamber-golf-tournament-15106
END:VEVENT

END:VCALENDAR
