BEGIN:VCALENDAR
VERSION:2.0
PRODID:-//ChamberMaster//Event Calendar 2.0//EN
METHOD:PUBLISH
X-PUBLISHED-TTL:P3D
REFRESH-INTERVAL:P3D
CALSCALE:GREGORIAN
BEGIN:VEVENT
DTSTART:20251106T160000Z
DTEND:20251107T210000Z
X-MICROSOFT-CDO-ALLDAYEVENT:FALSE
SUMMARY:36th Annual Utah Tech Classic Golf Tournament
DESCRIPTION:Join us in sunny St. George for two days of golf\, all while supporting student scholarships. The 36th annual Utah Tech Classic will be held at the beautiful Sunbrook Golf Course on Thursday\, Nov. 6 and Friday\, Nov. 7. (Two-day format).\n\n\n\nIf you're going to get away\, why not make it for two days?\n\nProceeds will go towards supporting student scholarships\, including Utah Tech Student Athletes. It is solely towards scholarships\, not for name\, image\, or likeness. (NIL)\n\nA few foursomes remain\, so act fast. Register at UT Classic \n\nQuestions? Please contact John Fackler at john.fackler@utahtech.com or (801) 918-9773
X-ALT-DESC;FMTTYPE=text/html:<span style="font-size:16px\;"><span style="font-family:arial\;">Join us in sunny St. George for two days of golf\, all while supporting student scholarships. <strong>The 36th annual Utah Tech Classic </strong>will be held at the beautiful <strong>Sunbrook Golf Course on Thursday\, Nov. 6 and Friday\, Nov. 7.</strong> (Two-day format).<br />\n<br />\nIf you&#39\;re going to get away\, why not make it for two days?<br />\nProceeds will go towards supporting student scholarships\, including Utah Tech Student Athletes. It is solely towards scholarships\, not for name\, image\, or likeness. (NIL)<br />\nA few foursomes remain\, so act fast. Register at&nbsp\;<a href=".">UT Classic</a>&nbsp\;<br />\nQuestions? Please contact John Fackler at john.fackler@utahtech.com or <a href="tel:(801) 918-9773">(801) 918-9773</a></span></span>
LOCATION:Sunbrook Golf Course | 2366 W Sunbrook Dr.\, St. George\, UT 84770
UID:e.1263.18230
SEQUENCE:3
DTSTAMP:20260424T083954Z
URL:http://business.southvalleychamber.com/events/details/36th-annual-utah-tech-classic-golf-tournament-18230
END:VEVENT

END:VCALENDAR
