BEGIN:VCALENDAR
VERSION:2.0
PRODID:-//ChamberMaster//Event Calendar 2.0//EN
METHOD:PUBLISH
X-PUBLISHED-TTL:P3D
REFRESH-INTERVAL:P3D
CALSCALE:GREGORIAN
BEGIN:VEVENT
DTSTART:20250809T140000Z
DTEND:20250809T190000Z
X-MICROSOFT-CDO-ALLDAYEVENT:FALSE
SUMMARY:Alzheimer's Association - 11th Annual Vincent Family Golf Tournament
DESCRIPTION:The Vincent Family will hold their 11th annual charity golf tournament to fundraise for the Alzheimer's Association\, Utah chapter. This fun event will be held at the River Oaks Golf Course in Sandy\, UT on Saturday\, August 9\, 2025.\n\n\n\nThis event has been the catalyst for over $80\,000 in funds raised over the past 10 years and they are planning their biggest event yet for August. This 501(c)(3) group is currently seeking hole sponsorships\, raffle prize donations\, and direct monetary donations to their ALZ Walk to End Alzheimer's team.\n\n\n\nHole sponsorships include direct access to over 90 golfers and staff on the day of the event and post-event thru on-site & in-person advertising and interactions at the event.\n\n\n\nAll profits raised go directly to the Alzheimer's Association to help find a cure for this terrible disease. Please get involved and help us meet our goals!\n\n\n\nReach out to Darin Vincent\, ALZ Utah Board member\, at 801-657-2155 or gundogslc@yahoo.com for more information. Thanks!
X-ALT-DESC;FMTTYPE=text/html:<span style="font-size:16px\;"><span style="font-family:arial\;"><span style="background-color: rgb(250\, 250\, 250)\; color: rgb(66\, 66\, 66)\;">The Vincent Family will hold their <strong>11th annual charity golf tournament </strong>to fundraise for the <strong>Alzheimer&#39\;s Association\, Utah chapter</strong>. This fun event will be held at the River Oaks Golf Course in Sandy\, UT on <strong>Saturday\,&nbsp\;August 9\, 2025</strong>.<br />\n<br />\nThis event has been the catalyst for over $80\,000 in funds raised over the past 10 years and they are planning their biggest event yet for August. This 501(c)(3) group is currently seeking hole sponsorships\, raffle prize donations\, and direct monetary donations to their ALZ Walk to End Alzheimer&#39\;s team.<br />\n<br />\nHole sponsorships include direct access to over 90 golfers and staff on the day of the event and post-event thru on-site &amp\; in-person advertising and interactions at the event.<br />\n<br />\nAll profits raised go directly to the Alzheimer&#39\;s Association to help find a cure for this terrible disease. Please get involved and help us meet our goals!<br />\n<br />\nReach out to Darin Vincent\, ALZ Utah Board member\, at 801-657-2155 or gundogslc@yahoo.com for more information. Thanks!</span></span></span>
LOCATION:River Oaks Golf Course | 9300 Riverside Drive in Sandy
UID:e.1263.15237
SEQUENCE:3
DTSTAMP:20260422T011455Z
URL:http://business.southvalleychamber.com/events/details/alzheimer-s-association-11th-annual-vincent-family-golf-tournament-15237
END:VEVENT

END:VCALENDAR
