BEGIN:VCALENDAR
VERSION:2.0
PRODID:-//ChamberMaster//Event Calendar 2.0//EN
METHOD:PUBLISH
X-PUBLISHED-TTL:P3D
REFRESH-INTERVAL:P3D
CALSCALE:GREGORIAN
BEGIN:VEVENT
DTSTART:20251018T220000Z
DTEND:20251019T000000Z
X-MICROSOFT-CDO-ALLDAYEVENT:FALSE
SUMMARY:AMYS Martial Arts - Trunk or Treat
DESCRIPTION:Dear Friends of Draper and surrounding areas\,\n\nAMYS Martial Arts is excited to announce our Annual Trunk or Treat Event! We need your help to make this year's community event the biggest it can possibly be!\n\n\n\nYou may be asking what is a Trunk or Treat? Rather than trick or treating house to house\, kids visit decorated trunks set up at AMYS Martial Arts ( 117 E 13800 S Draper\, UT) and enjoy a bounce house\, tricks\, treats and much more. We have over 20 "trunks" available.\n\n\n\nLast year we had over 1\,000 ghouls\, ghosts and parents attend! Our goal is to get you to be one of those trunks!\n\n\n\nHere's where you can help! We are inviting local businesses to decorate their company or personal vehicle FOR FREE in a fun Halloween or Fall theme and watch the smiles come as you hand out candy to the kids! Don't have a car? You can set up a table as a trunk. This is a great opportunity to give back to the families of our surrounding communities and we encourage you to use this as an opportunity to advertise for your company.\n\n\n\nClick here to save your spot by October 10: Register Here!\n\nIn addition\, we will add your logo to our landing page at amysmartialarts.com . \n\nRemember\, each child has an adult with them! Your company may choose to hand-out "goodies" with your company name or just put a sign on your trunk "Sponsored by... ".\n\nWe highly encourage that every business donates a Gift Card for the prize raffles. (Gift card value should be $50. It can be for your own business\, or any other) Gift cards can be dropped off at any AMYS campus Monday to Thursday 4-8PM\, or Saturdays 10-1PM.\n\nWe are super excited to make this Safe\, and FREE community event one that the families in our community look forward to EVERY YEAR!\n\nDetails: Trunk or Treat\n\nDate: October 18\, 2025\n\nTime: 4-6pm \n\nLocation: 117 E 13800 S Draper\, UT 84020\n\n\n\nKind regards\, \n\nAMYS MARTIAL ARTS\n\nCall/Text - (801) 432-0853
X-ALT-DESC;FMTTYPE=text/html:<p><span style="font-size:16px\;"><span style="font-family:arial\;">Dear Friends of Draper and surrounding areas\,</span></span></p>\n\n<p><span style="font-size:16px\;"><span style="font-family:arial\;"><strong>AMYS Martial Arts </strong>is excited to announce our <strong>Annual Trunk or Treat Event</strong>!&nbsp\;</span></span><span style="font-size:16px\;"><span style="font-family:arial\;">We need your help to make this year&#39\;s community event the biggest it can possibly be!<br />\n<br />\n<strong>You may be asking what is a Trunk or Treat? </strong>Rather than trick or treating house to house\, kids visit decorated trunks set up at AMYS Martial Arts ( 117 E 13800 S Draper\, UT) and enjoy a bounce house\, tricks\, treats and much more. We have over 20 &quot\;trunks&rdquo\; available.<br />\n<br />\nLast year we had over 1\,000 ghouls\, ghosts and parents attend!&nbsp\;</span></span><span style="font-size:16px\;"><span style="font-family:arial\;">Our goal is to get you to be one of those trunks!<br />\n<br />\n<strong>Here&#39\;s where you can help!</strong> We are inviting local businesses to decorate their company or personal vehicle FOR FREE in a fun Halloween or Fall theme and watch the smiles come as you hand out candy to the kids! Don&#39\;t have a car? You can set up a table as a trunk. This is a great opportunity to give back to the families of our surrounding communities and we encourage you to use this as an opportunity to advertise for your company.<br />\n<br />\nClick here to save your spot by October 10:&nbsp\;<strong><a href="https://docs.google.com/forms/d/e/1FAIpQLScCJ112guvvl-C9cVLHdkXBHM24pGQTWEuiPpGtAVGE3x8IeA/viewform?usp=header" target="_blank">Register Here</a>!</strong><br />\nIn addition\, we will add your logo to our landing page at amysmartialarts.com .&nbsp\;</span></span></p>\n\n<p><span style="font-size:16px\;"><span style="font-family:arial\;">Remember\, each child has an adult with them! Your company may choose to hand-out &quot\;goodies&rdquo\; with your company name or just put a sign on your trunk &ldquo\;Sponsored by... &rdquo\;.</span></span></p>\n\n<p><span style="font-size:16px\;"><span style="font-family:arial\;">We highly encourage that every business donates a Gift Card for the prize raffles. (Gift card value should be $50. It can be for your own business\, or any other) Gift cards can be dropped off at any AMYS campus Monday to Thursday 4-8PM\, or Saturdays 10-1PM.</span></span></p>\n\n<p><span style="font-size:16px\;"><span style="font-family:arial\;">We are super excited to make this Safe\, and FREE community event one that the families in our community look forward to EVERY YEAR!</span></span></p>\n\n<p><strong><span style="font-size:16px\;"><span style="font-family:arial\;">Details: Trunk or Treat<br />\nDate: October 18\, 2025</span></span><br />\n<span style="font-size:16px\;"><span style="font-family:arial\;">Time: 4-6pm&nbsp\;</span></span><br />\n<span style="font-size:16px\;"><span style="font-family:arial\;">Location: 117 E 13800 S Draper\, UT 84020</span></span></strong></p>\n\n<p><br />\n<span style="font-size:16px\;"><span style="font-family:arial\;">Kind regards\,&nbsp\;</span></span></p>\n\n<p><span style="font-size:16px\;"><span style="font-family:arial\;"><a href="http://amysmartialarts.com/" target="_blank">AMYS MARTIAL ARTS</a><br />\nCall/Text -&nbsp\;<a href="tel:(801)+432-0853" rel="noopener" target="_blank">(801) 432-0853</a></span></span></p>\n
LOCATION:AMYS Martial Arts | 117 E 13800 S Draper\, UT 84020
UID:e.1263.18194
SEQUENCE:3
DTSTAMP:20260420T144315Z
URL:http://business.southvalleychamber.com/events/details/amys-martial-arts-trunk-or-treat-18194
END:VEVENT

END:VCALENDAR
