BEGIN:VCALENDAR
VERSION:2.0
PRODID:-//ChamberMaster//Event Calendar 2.0//EN
METHOD:PUBLISH
X-PUBLISHED-TTL:P3D
REFRESH-INTERVAL:P3D
CALSCALE:GREGORIAN
BEGIN:VEVENT
DTSTART;VALUE=DATE:20251101
DTEND;VALUE=DATE:20251102
TRANSP:TRANSPARENT
X-MICROSOFT-CDO-ALLDAYEVENT:TRUE
SUMMARY:ARUP November Coat Drive
DESCRIPTION:Donate your used coats\, scarves and/or gloves to ARUP Blood Services in November.  Drop off at 9786 S. 500 W.\, in Sandy (between 10600 and 9000).  Or text Deb Jordan at 818-681-4681 to pick up items.
X-ALT-DESC;FMTTYPE=text/html:<span style="font-size:16px\;"><span style="font-family:arial\;">Donate your used coats\, scarves and/or gloves to <strong>ARUP Blood Services </strong>in November.&nbsp\; Drop off at 9786 S. 500 W.\, in Sandy (between 10600 and 9000).&nbsp\; Or text Deb Jordan at 818-681-4681 to pick up items.&nbsp\;</span></span>
LOCATION:ARUP Blood Services | 9786 S. 500 W. in Sandy
UID:e.1263.18193
SEQUENCE:3
DTSTAMP:20260420T065929Z
URL:http://business.southvalleychamber.com/events/details/arup-november-coat-drive-18193
END:VEVENT

END:VCALENDAR
