BEGIN:VCALENDAR
VERSION:2.0
PRODID:-//ChamberMaster//Event Calendar 2.0//EN
METHOD:PUBLISH
X-PUBLISHED-TTL:P3D
REFRESH-INTERVAL:P3D
CALSCALE:GREGORIAN
BEGIN:VEVENT
DTSTART:20250419T160000Z
DTEND:20250419T180000Z
X-MICROSOFT-CDO-ALLDAYEVENT:FALSE
SUMMARY:Bluffdale Lions Club - Easter Egg Hunt
DESCRIPTION:Bluffdale Lions Club Annual Easter Egg Hunt\n\nFree Entry:  Ages 0-13 Years Old.\n\nPictures with the Easter Bunny!\n\nThe Egg Hunt starts right at 10 AM   don't miss out!
X-ALT-DESC;FMTTYPE=text/html:<p style="box-sizing: border-box\; margin: 0px 0px 1em\; color: rgb(84\, 84\, 84)\; font-family: Lato\, sans-serif\; font-size: 16px\; letter-spacing: 0.1px\;"><span style="color:#000000\;"><span style="font-size:16px\;"><span style="font-family:arial\;"><strong>Bluffdale Lions Club Annual Easter Egg Hunt</strong><br />\nFree Entry:&nbsp\; Ages 0-13 Years Old.<br />\nPictures with the Easter Bunny!</span></span></span></p>\n\n<p style="box-sizing: border-box\; margin: 0px 0px 1em\; color: rgb(84\, 84\, 84)\; font-family: Lato\, sans-serif\; font-size: 16px\; letter-spacing: 0.1px\;"><span style="color:#000000\;"><span style="font-family: arial\; letter-spacing: 0.1px\;">The Egg Hunt&nbsp\;starts right at 10 AM &ndash\; don&#39\;t miss out!</span></span></p>\n
LOCATION:Bluffdale City Park | 2400 West 14400 South\, Bluffdale
UID:e.1263.15266
SEQUENCE:3
DTSTAMP:20260423T033509Z
URL:http://business.southvalleychamber.com/events/details/bluffdale-lions-club-easter-egg-hunt-15266
END:VEVENT

END:VCALENDAR
