BEGIN:VCALENDAR
VERSION:2.0
PRODID:-//ChamberMaster//Event Calendar 2.0//EN
METHOD:PUBLISH
X-PUBLISHED-TTL:P3D
REFRESH-INTERVAL:P3D
CALSCALE:GREGORIAN
BEGIN:VEVENT
DTSTART:20250219T180000Z
DTEND:20250219T200000Z
X-MICROSOFT-CDO-ALLDAYEVENT:FALSE
SUMMARY:Business Boot Camp: Upward Engine - Digital Marketing/SEO Workshop
DESCRIPTION:Upward Engine will help you navigate the endless marketing options to find the strategies that truly work for your business. By focusing on the right tactics\, you can drive extraordinary results\, boost leads\, increase sales\, and watch your success reach new heights.
X-ALT-DESC;FMTTYPE=text/html:<div class="SCXW159721185 BCX4" font-size:="" segoe="" style="margin: 0px\; padding: 0px\; user-select: text\; -webkit-user-drag: none\; caret-color: rgba(0\, 0\, 0\, 0.847)\;" ui="">\n<div class="OutlineElement Ltr SCXW159721185 BCX4" style="margin: 0px\; padding: 0px\; user-select: text\; -webkit-user-drag: none\; overflow: visible\; cursor: text\; clear: both\; position: relative\; direction: ltr\;">\n<div background-color:="" class="SCXW171359723 BCX8" font-size:="" segoe="" style="margin: 0px\; padding: 0px\; user-select: text\; -webkit-user-drag: none\; -webkit-tap-highlight-color: transparent\;" ui="">\n<div class="OutlineElement Ltr SCXW171359723 BCX8" style="margin: 0px\; padding: 0px\; -webkit-user-drag: none\; overflow: visible\; cursor: text\; clear: both\; position: relative\; direction: ltr\;">\n<p class="Paragraph SCXW171359723 BCX8" paraeid="{ec2f1c2d-434d-480d-9af4-d000322f5b9a}{121}" paraid="1509609676" style="margin: 0px\; padding: 0px\; -webkit-user-drag: none\; overflow-wrap: break-word\; white-space-collapse: preserve\; vertical-align: baseline\; font-kerning: none\; background-color: transparent\;"><span style="font-size:16px\;"><span style="font-family:arial\;"><font color="#000000"><span class="OYPEnA font-feature-liga-off font-feature-clig-off font-feature-calt-off text-decoration-none text-strikethrough-none" style="font-kerning: none\;">Upward Engine will help you navigate the endless marketing options to find the strategies that truly work for your business. By focusing on the right tactics\, you can drive extraordinary results\, boost leads\, increase sales\, and watch your success reach new heights.</span></font></span></span></p>\n</div>\n</div>\n</div>\n</div>\n
LOCATION:Salt Mine Productive Workspace 7984 South 1300 East in Sandy Free Parking.
UID:e.1263.14918
SEQUENCE:3
DTSTAMP:20260423T105407Z
URL:http://business.southvalleychamber.com/events/details/business-boot-camp-upward-engine-digital-marketing-seo-workshop-14918
END:VEVENT

END:VCALENDAR
