BEGIN:VCALENDAR
VERSION:2.0
PRODID:-//ChamberMaster//Event Calendar 2.0//EN
METHOD:PUBLISH
X-PUBLISHED-TTL:P3D
REFRESH-INTERVAL:P3D
CALSCALE:GREGORIAN
BEGIN:VEVENT
DTSTART:20250423T230000Z
DTEND:20250424T003000Z
X-MICROSOFT-CDO-ALLDAYEVENT:FALSE
SUMMARY:Connect After Hours - Garage Grill Herriman
DESCRIPTION:Join us for Connect After Hours hosted by the Garage Grill in Herriman.  Connect After Hours is a great way to connect\, make new friends\, and expand your business network while enjoying light appetizers. Lite bites are included\, and there will also be a cash bar.  You must be 21 years and older and picture ID is required.\n\nAbout Our Venue:\n\nGarage Grill is recognized as one the foremost automotive-themed restaurants in the country with roots in motorsports going back to owner Steve Pruitt's ownership interest in the Long Beach Grand Prix with a racing career that began in the Jim Russell Series at Riverside International Raceway.\n\nGarage Grill regularly exhibits some of the Corsa cars as well as other race and sports cars including Formula 1\, IndyCar\, NASCAR\, Ferrari Lamborghini\, McLaren\, Lotus\, BMW\, Ford\, and Saleen. The restaurant features hundreds of racing and motorsports memorabilia.
X-ALT-DESC;FMTTYPE=text/html:<div class="OutlineElement Ltr SCXW44096310 BCX4" font-size:="" segoe="" style="margin: 0px\; padding: 0px\; user-select: text\; -webkit-user-drag: none\; overflow: visible\; cursor: text\; clear: both\; position: relative\; direction: ltr\; caret-color: rgba(0\, 0\, 0\, 0.847)\;" ui="">\n<p class="Paragraph SCXW44096310 BCX4" paraeid="{84376470-9ee7-47c0-9d23-983ef05dbcb6}{68}" paraid="1424378879" style="caret-color: rgba(0\, 0\, 0\, 0.847)\; white-space-collapse: preserve\; margin: 0px\; padding: 0px\; user-select: text\; -webkit-user-drag: none\; overflow-wrap: break-word\; vertical-align: baseline\;"><span style="font-family: arial\; font-size: 16px\;">Join us for </span><span style="font-size:16px\;"><span style="font-family:arial\;"><strong style="font-family: arial\; font-size: 16px\;">Connect After Hours&nbsp\;</strong>hosted by&nbsp\;the <strong>Garage Grill in Herriman</strong></span></span><strong style="font-family: arial\; font-size: 16px\;"><span style="font-size:16px\;"><span style="font-family:arial\;">.</span></span>&nbsp\;&nbsp\;Connect After Hours&nbsp\;</strong><span style="font-family: arial\; font-size: 16px\;">is a&nbsp\;great way to connect\, make new friends\, and expand your business network while enjoying light appetizers. Lite bites are included\, and there will also be a cash bar.&nbsp\; You must be 21 years and older and picture ID is required.</span><br />\n<span style="font-size:16px\;"><strong>About Our Venue:</strong></span><br />\n<span style="font-family:arial\;"><span style="color: rgba(30\, 6\, 6\, 0.82)\; font-size: 15px\; letter-spacing: 0.4px\; white-space-collapse: preserve\;">Garage Grill is recognized as one the foremost automotive-themed restaurants in the country with roots in motorsports going back to owner Steve Pruitt&rsquo\;s ownership interest in the Long Beach Grand Prix with a racing career that began in the Jim Russell Series at Riverside International Raceway.<br />\n<span style="font-size:16px\;">Garage Grill regularly exhibits some of the Corsa cars as well as other race and sports cars including Formula 1\, IndyCar\, NASCAR\, Ferrari Lamborghini\, McLaren\, Lotus\, BMW\, Ford\, and Saleen. The restaurant features hundreds of racing and motorsports memorabilia.</span></span></span></p>\n</div>\n
LOCATION:Garage Grill 12547 Herriman Auto Row in Herriman
UID:e.1263.14934
SEQUENCE:3
DTSTAMP:20260423T033555Z
URL:http://business.southvalleychamber.com/events/details/connect-after-hours-garage-grill-herriman-14934
END:VEVENT

END:VCALENDAR
