BEGIN:VCALENDAR
VERSION:2.0
PRODID:-//ChamberMaster//Event Calendar 2.0//EN
METHOD:PUBLISH
X-PUBLISHED-TTL:P3D
REFRESH-INTERVAL:P3D
CALSCALE:GREGORIAN
BEGIN:VEVENT
DTSTART:20250926T230000Z
DTEND:20250927T013000Z
X-MICROSOFT-CDO-ALLDAYEVENT:FALSE
SUMMARY:Cottonwood Heights Community Block Party
DESCRIPTION:Cottonwood Heights Community Block Party\n\nJoin us for the Community Block Party on Friday\, September 26th from 5-7:30 PM at the Hillside Plaza (2378 Fort Union Blvd). We will have a Bike Safety Rodeo\, opportunities to meet local businesses\, a Chalk Art Contest\, Face Painting\, a Photo Booth\, Lawn Games\, and Food Trucks!\n\n\n\nBring your family for the activities\, including: \n\n\n	Bike Safety Rodeo\n	Meet Local Businesses \n	Face-painting\n	Photo Booth\n	Chalk Art Contest\n	Lawn Games\n	Food Trucks!!!
X-ALT-DESC;FMTTYPE=text/html:<p style="color: rgb(36\, 36\, 36)\; font-family: Calibri\, Arial\;"><span style="font-size:18px\;"><strong><span style="font-family:arial\;">Cottonwood Heights Community Block Party</span></strong></span></p>\n\n<p style="color: rgb(36\, 36\, 36)\; font-family: Calibri\, Arial\;"><span style="color: rgb(84\, 84\, 84)\; font-family: Lato\, sans-serif\; font-size: 16px\; letter-spacing: 0.1px\;">Join us for the Community Block Party on Friday\, September 26th from 5-7:30 PM at the Hillside Plaza (2378 Fort Union Blvd). We will have a Bike Safety Rodeo\, opportunities to meet local businesses\, a Chalk Art Contest\, Face Painting\, a Photo Booth\, Lawn Games\, and Food Trucks!</span><br />\n<br />\n<span style="font-size:16px\;"><span style="font-family:arial\;">Bring your family for the activities\, including:&nbsp\;</span></span></p>\n\n<ul>\n	<li style="color: rgb(36\, 36\, 36)\; font-family: Calibri\, Arial\;"><span style="font-size:16px\;"><span style="font-family:arial\;">Bike Safety Rodeo</span></span></li>\n	<li style="color: rgb(36\, 36\, 36)\; font-family: Calibri\, Arial\;"><span style="font-size:16px\;"><span style="font-family:arial\;">Meet Local Businesses&nbsp\;</span></span></li>\n	<li style="color: rgb(36\, 36\, 36)\; font-family: Calibri\, Arial\;"><span style="font-size:16px\;"><span style="font-family:arial\;">Face-painting</span></span></li>\n	<li style="color: rgb(36\, 36\, 36)\; font-family: Calibri\, Arial\;"><span style="font-size:16px\;"><span style="font-family:arial\;">Photo Booth</span></span></li>\n	<li style="color: rgb(36\, 36\, 36)\; font-family: Calibri\, Arial\;"><span style="font-size:16px\;"><span style="font-family:arial\;">Chalk Art Contest</span></span></li>\n	<li style="color: rgb(36\, 36\, 36)\; font-family: Calibri\, Arial\;"><span style="font-size:16px\;"><span style="font-family:arial\;">Lawn Games</span></span></li>\n	<li style="color: rgb(36\, 36\, 36)\; font-family: Calibri\, Arial\;"><span style="font-size:16px\;"><span style="font-family:arial\;">Food Trucks!!!</span></span></li>\n</ul>\n
LOCATION:Hillside Plaza | 2378 E Fort Union Blvd.
UID:e.1263.15793
SEQUENCE:3
DTSTAMP:20260420T202320Z
URL:http://business.southvalleychamber.com/events/details/cottonwood-heights-community-block-party-15793
END:VEVENT

END:VCALENDAR
