BEGIN:VCALENDAR
VERSION:2.0
PRODID:-//ChamberMaster//Event Calendar 2.0//EN
METHOD:PUBLISH
X-PUBLISHED-TTL:P3D
REFRESH-INTERVAL:P3D
CALSCALE:GREGORIAN
BEGIN:VEVENT
DTSTART:20250827T140000Z
DTEND:20250827T200000Z
X-MICROSOFT-CDO-ALLDAYEVENT:FALSE
SUMMARY:Cottonwood Heights Parks and Recreation Foundation Charity Golf Tournament
DESCRIPTION:The Cottonwood Heights Parks and Recreation Foundation's 21st Annual Charity Golf Tournament supports parks\, recreation programs\, and sponsorships for our community. As a 501(c)(3) nonprofit\, the Foundation provides opportunities for charitable giving that make these resources possible.\n\n\n\nThis fun-filled tournament is a great way to promote your business and connect with others through Platinum Sponsorships\, hole and contest sponsorships\, individual foursomes\, and more.\n\n\n\nGolfers enjoy 18 holes with a cart\, breakfast\, lunch\, range balls\, prize drawings\, on-course contests\, swag bags\, and snacks and drinks throughout play. Check out our sponsorship packages on our website HERE to get involved!
X-ALT-DESC;FMTTYPE=text/html:<span style="font-size:16px\;"><span style="font-family:arial\;"><strong>The Cottonwood Heights Parks and Recreation Foundation&#39\;s 21st Annual Charity Golf Tournament </strong>supports parks\, recreation programs\, and sponsorships for our community. As a 501(c)(3) nonprofit\, the Foundation provides opportunities for charitable giving that make these resources possible.<br />\n<br />\nThis fun-filled tournament is a great way to promote your business and connect with others through Platinum Sponsorships\, hole and contest sponsorships\, individual foursomes\, and more.<br />\n<br />\nGolfers enjoy 18 holes with a cart\, breakfast\, lunch\, range balls\, prize drawings\, on-course contests\, swag bags\, and snacks and drinks throughout play. Check out our sponsorship packages on our website <strong><a href="https://chparsa.specialdistrict.org/chprf-charity-golf-tournament"><span style="color:#008080\;">HERE</span></a></strong> to get involved!</span></span>
LOCATION:South Mountain Golf Course | 1247 East Mike Weir Drive\, Draper\, Utah 84020
UID:e.1263.15231
SEQUENCE:3
DTSTAMP:20260422T011629Z
URL:http://business.southvalleychamber.com/events/details/cottonwood-heights-parks-and-recreation-foundation-charity-golf-tournament-15231
END:VEVENT

END:VCALENDAR
