BEGIN:VCALENDAR
VERSION:2.0
PRODID:-//ChamberMaster//Event Calendar 2.0//EN
METHOD:PUBLISH
X-PUBLISHED-TTL:P3D
REFRESH-INTERVAL:P3D
CALSCALE:GREGORIAN
BEGIN:VEVENT
DTSTART:20251108T180000Z
DTEND:20251108T210000Z
X-MICROSOFT-CDO-ALLDAYEVENT:FALSE
SUMMARY:CRISP & GREEN Wellness Series with Annika Orozco
DESCRIPTION:Move\, fuel\, and connect at the CRISP & GREEN Wellness Series with Annika Orozco.\n\n\n\nA free\, feel-good experience you don't want to miss!\n\n\n\n\nWellness is a lifestyle   and we're here to help you live it.\n\nJoin us for an unforgettable day of movement\, nourishment\, and all things wellness at the Sandy CRISP & GREEN Wellness Series\, hosted by CRISP & GREEN and renowned fitness influencer Annika Orozco!\n\nWe're bringing together the best in food\, fitness\, and self-care for a high-energy\, feel-good experience that will leave you feeling fueled and fulfilled.\n\n\n\nWhat to Expect:\n\nSweat & Sculpt with Annika Orozco\n\nKick off the day with a dynamic\, fun\, and empowering group workout led by Annika herself. Whether you're a fitness newbie or a total pro\, get ready to move\, sweat\, and vibe together with a 45-minute mat Pilates class designed to strengthen\, tone\, and align your entire body. This low-impact\, high-burn workout focuses on core stability\, controlled movement\, and mind-body connection. Expect a dynamic warm-up\, a powerful full-body flow\, and a grounding cool-down to leave you feeling strong\, centered\, and refreshed. Please bring your own mat\, your water\, and your sweat towel.\n\nSalad & Smoothie Samples from CRISP & GREEN\n\nRefuel post-sweat with delicious\, fresh\, and nutritious bites from CRISP & GREEN   your go-to for clean eating and vibrant flavor.\n\nExclusive Brand Gifting\n\nBe one of our first 50 attendees to arrive and score products from top wellness partners like Wishing Well Laundry Detergent\, Gruns\, VIO2 Mouth Tape\, Sanitas Skincare\, augustnoa\, Form Fitness + Chiropractic\, Poppy and Pout\, Tagge's Fruit\, and more\, along with exclusive CRISP & GREEN merch.\n\nBrand Activations\n\nRecover and recharge with both complimentary and for-purchase activations on-site from your favorite local wellness brands\, including Annika's streetwear brand HEALTH IS WEALTH\, Form Fitness and Chiropractic\, Avenues Sauna\, Hydrate IV Bar\, Perspire Sauna Studio\, and more!\n\n \n\nFind the event details here and secure your spot now!\n\n \n\nWhether you're building a new routine or deep in your self-care era\, the CRISP & GREEN Wellness Series is here to inspire and empower. Come connect with your community\, discover your new favorite rituals\, and experience CRISP & GREEN wellness!
X-ALT-DESC;FMTTYPE=text/html:<div>\n<div><span style="font-size:16px\;"><span style="font-family:arial\;"><strong><u>Move\, fuel\, and connect at the CRISP &amp\; GREEN Wellness Series with Annika Orozco.</u></strong><br />\n<br />\nA free\, feel-good experience you don&rsquo\;t want to miss!</span></span></div>\n</div>\n\n<div>\n<div>\n<p><span style="font-size:16px\;"><span style="font-family:arial\;">Wellness is a lifestyle &ndash\; and we&#39\;re here to help you live it.</span></span></p>\n\n<p><span style="font-size:16px\;"><span style="font-family:arial\;">Join us for an unforgettable day of movement\, nourishment\, and all things wellness at the <strong>Sandy&nbsp\;CRISP &amp\; GREEN Wellness Series</strong>\, hosted by&nbsp\;CRISP &amp\; GREEN&nbsp\;and renowned fitness influencer&nbsp\;Annika Orozco!</span></span></p>\n\n<p><span style="font-size:16px\;"><span style="font-family:arial\;">We&#39\;re bringing together the best in food\, fitness\, and self-care for a high-energy\, feel-good experience that will leave you feeling fueled and fulfilled.</span></span></p>\n\n<p><br />\n<span style="font-size:16px\;"><span style="font-family:arial\;"><u>What to Expect:</u></span></span></p>\n\n<p><span style="font-size:16px\;"><span style="font-family:arial\;"><strong>Sweat &amp\; Sculpt with Annika Orozco</strong></span></span></p>\n\n<p><span style="font-size:16px\;"><span style="font-family:arial\;">Kick off the day with a dynamic\, fun\, and empowering group workout led by Annika herself. Whether you&#39\;re a fitness newbie or a total pro\, get ready to move\, sweat\, and vibe together with a 45-minute mat Pilates class designed to strengthen\, tone\, and align your entire body. This low-impact\, high-burn workout focuses on core stability\, controlled movement\, and mind-body connection. Expect a dynamic warm-up\, a powerful full-body flow\, and a grounding cool-down to leave you feeling strong\, centered\, and refreshed.&nbsp\;Please bring your own mat\, your water\, and your sweat towel.</span></span></p>\n\n<p><span style="font-size:16px\;"><span style="font-family:arial\;"><strong>Salad &amp\; Smoothie Samples from CRISP &amp\; GREEN</strong></span></span></p>\n\n<p><span style="font-size:16px\;"><span style="font-family:arial\;">Refuel post-sweat with delicious\, fresh\, and nutritious bites from CRISP &amp\; GREEN &ndash\; your go-to for clean eating and vibrant flavor.</span></span></p>\n\n<p><span style="font-size:16px\;"><span style="font-family:arial\;"><strong>Exclusive Brand Gifting</strong></span></span></p>\n\n<p><span style="font-size:16px\;"><span style="font-family:arial\;">Be one of our first 50 attendees to arrive and score products from top wellness partners like Wishing Well Laundry Detergent\, Gruns\, VIO2 Mouth Tape\, Sanitas Skincare\, augustnoa\, Form Fitness + Chiropractic\, Poppy and Pout\, Tagge&#39\;s Fruit\, and more\, along with exclusive CRISP &amp\; GREEN merch.</span></span></p>\n\n<p><span style="font-size:16px\;"><span style="font-family:arial\;"><strong>Brand Activations</strong></span></span></p>\n\n<p><span style="font-size:16px\;"><span style="font-family:arial\;">Recover and recharge with both complimentary and for-purchase activations on-site from your favorite local wellness brands\, including Annika&#39\;s streetwear brand HEALTH IS WEALTH\, Form Fitness and Chiropractic\, Avenues Sauna\, Hydrate IV Bar\, Perspire Sauna Studio\, and more!</span></span><br />\n&nbsp\;</p>\n\n<p><span style="font-size:16px\;"><span style="font-family:arial\;"><strong><a href="https://www.eventbrite.com/e/crisp-green-wellness-series-with-annika-orozco-tickets-1825879377369?aff=oddtdtcreator">Find the event details here and&nbsp\;secure your spot now!</a></strong></span></span><br />\n&nbsp\;</p>\n\n<p><span style="font-size:16px\;"><span style="font-family:arial\;"><em>Whether you&#39\;re building a new routine or deep in your self-care era\, the CRISP &amp\; GREEN Wellness Series is here to inspire and empower. Come connect with your community\, discover your new favorite rituals\, and experience CRISP &amp\; GREEN wellness!</em></span></span></p>\n</div>\n</div>\n
LOCATION:Crisp & Green - Sandy 9710 S State St.\, Sandy\, UT 84070
UID:e.1263.18237
SEQUENCE:3
DTSTAMP:20260420T055813Z
URL:http://business.southvalleychamber.com/events/details/crisp-green-wellness-series-with-annika-orozco-18237
END:VEVENT

END:VCALENDAR
