BEGIN:VCALENDAR
VERSION:2.0
PRODID:-//ChamberMaster//Event Calendar 2.0//EN
METHOD:PUBLISH
X-PUBLISHED-TTL:P3D
REFRESH-INTERVAL:P3D
CALSCALE:GREGORIAN
BEGIN:VEVENT
DTSTART:20250319T173000Z
DTEND:20250319T180000Z
X-MICROSOFT-CDO-ALLDAYEVENT:FALSE
SUMMARY:Culture & Capability: Stop Hiring Lousy Employees
DESCRIPTION:Stop Hiring Lousy Employees: Recruiting Tips From An HR Manager\n\n\n\nAre poor hires sending your business tumbling? This workshop will explore effective strategies for screening and recruiting employees\, including real and actionable tips\, tricks\, systems\, and resources. Learn from an HR Manager how to hire the best people and avoid the worst.\n\n\n\nThis will be a 30-minute virtual webinar held over Zoom.
X-ALT-DESC;FMTTYPE=text/html:<strong><span style="font-size:24px">Stop Hiring Lousy Employees: Recruiting Tips From An HR Manager</span></strong><br />\n<br />\n<span style="font-family:arial\; font-size:16px">Are poor hires sending your business tumbling? This workshop will explore effective strategies for screening and recruiting employees\, including real and actionable tips\, tricks\, systems\, and resources. Learn from an HR Manager how to hire the best people and avoid the worst.</span><br />\n<br />\n<span style="font-family:arial\; font-size:16px">This will be a 30-minute virtual webinar held over Zoom.&nbsp\;</span>
LOCATION:Join Zoom Meeting https://purple.zoom.us/j/81048903536 Meeting ID: 810 4890 3536
UID:e.1263.15128
SEQUENCE:3
DTSTAMP:20260423T075726Z
URL:http://business.southvalleychamber.com/events/details/culture-capability-stop-hiring-lousy-employees-15128
END:VEVENT

END:VCALENDAR
