BEGIN:VCALENDAR
VERSION:2.0
PRODID:-//ChamberMaster//Event Calendar 2.0//EN
METHOD:PUBLISH
X-PUBLISHED-TTL:P3D
REFRESH-INTERVAL:P3D
CALSCALE:GREGORIAN
BEGIN:VEVENT
DTSTART;VALUE=DATE:20250425
DTEND;VALUE=DATE:20250426
TRANSP:TRANSPARENT
X-MICROSOFT-CDO-ALLDAYEVENT:TRUE
SUMMARY:Draper City Arbor Day
DESCRIPTION:The Draper City Tree Committee holds an annual Arbor Day program and community tree-planting event to celebrate Draper City's designation as a Tree City USA by the Arbor Day Foundation since 1999. \n\n\n\nQuestions: Contact the Parks and Recreation Director by email or call (801) 576-6578.\n\nInclement Weather:  Event will be held snow\, rain\, or shine. However\, it may be canceled or postponed due to severe weather. Check this webpage for current information.\n\nADA Accessibility: To request an accommodation due to a disability contact the Parks and Recreation Director by email or call (801) 576-6578. Requests should be made as soon as possible but at least five days before the event date.
X-ALT-DESC;FMTTYPE=text/html:<p id="isPasted"><span style="font-size:16px\;"><span style="font-family:arial\;">The Draper City Tree Committee holds an annual Arbor Day program and community tree-planting event to celebrate Draper City&#39\;s designation as a Tree City USA by the Arbor Day Foundation since 1999.&nbsp\;</span></span><br />\n<br />\n<span style="font-family: arial\; font-size: 16px\;">Questions:&nbsp\;Contact the Parks and Recreation Director by&nbsp\;</span><a href="mailto:rhett.ogden@draperutah.gov" style="font-family: arial\; font-size: 16px\;">email</a><span style="font-family: arial\; font-size: 16px\;">&nbsp\;or call (801) 576-6578.</span></p>\n\n<p><span style="font-size:16px\;"><span style="font-family:arial\;">Inclement Weather: &nbsp\;Event will be held snow\, rain\, or shine. However\, it may be canceled or postponed due to severe weather. Check this webpage for current information.</span></span></p>\n\n<p><span style="font-size:16px\;"><span style="font-family:arial\;">ADA Accessibility:&nbsp\;To request an accommodation due to a disability contact the Parks and Recreation Director by&nbsp\;<a href="mailto:rhett.ogden@draperutah.gov" id="isPasted">email</a>&nbsp\;or call (801) 576-6578. Requests should be made as soon as possible but at least five days before the event date.</span></span></p>\n
LOCATION:Location TBD
UID:e.1263.15165
SEQUENCE:3
DTSTAMP:20260423T033202Z
URL:http://business.southvalleychamber.com/events/details/draper-city-arbor-day-15165
END:VEVENT

END:VCALENDAR
