BEGIN:VCALENDAR
VERSION:2.0
PRODID:-//ChamberMaster//Event Calendar 2.0//EN
METHOD:PUBLISH
X-PUBLISHED-TTL:P3D
REFRESH-INTERVAL:P3D
CALSCALE:GREGORIAN
BEGIN:VEVENT
DTSTART:20251107T173000Z
DTEND:20251107T203000Z
X-MICROSOFT-CDO-ALLDAYEVENT:FALSE
SUMMARY:FREE LUNCH Day at Sandy Crisp & Green!
DESCRIPTION:FREE Lunch at Crisp & Green   Sandy!\n\nFriday\, November 7 | 10:30 AM   1:30 PM\n\nWe're saying THANK YOU to our amazing South Valley community with a special Free Food Friday event at Crisp & Green   Sandy (9710 S State Street)!\n\nStop by between 10:30 AM and 1:30 PM to enjoy a FREE chef-crafted Salad\, Grain Bowl\, or Wrap our treat!\n\n\n\nOpen to everyone no RSVP required\n\nJust download the Crisp & Green app to redeem\n\nExcludes Build Your Own bowls\n\nLimit one meal per guest\n\n \n\nWhether you're a loyal guest or trying us for the first time\, this is our way of showing appreciation and fueling your Friday with something fresh. Bring your coworkers\, your besties\, or your whole office and help us spread the word!
X-ALT-DESC;FMTTYPE=text/html:<p><span style="font-size:16px\;"><span style="font-family:arial\;"><span style="color:#006400\;"><strong>FREE Lunch at Crisp &amp\; Green &ndash\; Sandy!</strong></span></span></span></p>\n\n<p><span style="font-size:16px\;"><span style="font-family:arial\;"><strong>Friday\, November 7 | 10:30 AM &ndash\; 1:30 PM</strong></span></span></p>\n\n<p><span style="font-family: arial\; font-size: 16px\;">We&rsquo\;re saying <strong>THANK YOU </strong>to our amazing South Valley community with a special </span><em style="font-family: arial\; font-size: 16px\;">Free Food Friday</em><span style="font-family: arial\; font-size: 16px\;"> event at </span><strong style="font-family: arial\; font-size: 16px\;">Crisp &amp\; Green &ndash\; Sandy</strong><span style="font-family: arial\; font-size: 16px\;"> (9710 S State Street)!</span></p>\n\n<p><span style="font-size:16px\;"><span style="font-family:arial\;">Stop by between <strong>10:30 AM and 1:30 PM</strong> to enjoy a <strong>FREE chef-crafted Salad\, Grain Bowl\, or Wrap</strong>&mdash\;our treat!</span></span></p>\n\n<p><br />\n<span style="font-size:16px\;"><span style="font-family:arial\;">Open to everyone&mdash\;no RSVP required</span></span></p>\n\n<p><span style="font-size:16px\;"><span style="font-family:arial\;">Just <a href="https://qrco.de/bdrTzN"><strong>download the Crisp &amp\; Green app</strong></a> to redeem</span></span></p>\n\n<p><span style="font-size:16px\;"><span style="font-family:arial\;">Excludes Build Your Own bowls</span></span></p>\n\n<p><span style="font-size:16px\;"><span style="font-family:arial\;">Limit one meal per guest</span></span></p>\n\n<p>&nbsp\;</p>\n\n<p><span style="font-size:16px\;"><span style="font-family:arial\;">Whether you&rsquo\;re a loyal guest or trying us for the first time\, this is our way of showing appreciation and fueling your Friday with something fresh. Bring your coworkers\, your besties\, or your whole office&mdash\;and help us spread the word!</span></span></p>\n
LOCATION:Crisp & Green - Sandy 9710 S State St.\, Sandy\, UT 84070
UID:e.1263.18236
SEQUENCE:3
DTSTAMP:20260420T080033Z
URL:http://business.southvalleychamber.com/events/details/free-lunch-day-at-sandy-crisp-green-18236
END:VEVENT

END:VCALENDAR
