BEGIN:VCALENDAR
VERSION:2.0
PRODID:-//ChamberMaster//Event Calendar 2.0//EN
METHOD:PUBLISH
X-PUBLISHED-TTL:P3D
REFRESH-INTERVAL:P3D
CALSCALE:GREGORIAN
BEGIN:VEVENT
DTSTART;VALUE=DATE:20251108
DTEND;VALUE=DATE:20251109
TRANSP:TRANSPARENT
X-MICROSOFT-CDO-ALLDAYEVENT:TRUE
SUMMARY:Habitat for Humanity Silent Charity Auction Nov 1-8
DESCRIPTION:Invest in local families. Strengthen our community. Build lasting opportunity.\n\nThis holiday season\, Habitat for Humanity of Greater Salt Lake invites business and community leaders to join us for our Holiday Silent Auction a festive opportunity to support local families while strengthening the foundation of our regional economy.\n\nWith one-of-a-kind experiences\, curated items\, and outstanding contributions from local partners\, this auction offers meaningful ways to give back. Every bid directly supports affordable housing and critical home repairs for Utah families helping parents build stability\, children succeed\, and neighborhoods thrive.\n\nAt Habitat\, we know that safe\, affordable housing isn't just a roof over a family's head. It fuels educational achievement\, improves health outcomes\, and builds a reliable\, empowered workforce. When families thrive\, local businesses and our economy thrive too.\n\nYour participation creates measurable impact delivering real returns in the form of stronger communities\, increased financial resilience\, and a healthier future for our region.\n\nEvent Details\n\n  November 1 8\n\n   Bidding opens noon November 1 | closes noon November 8\n\n  Pickup: November 10 14 | 9:00 a.m. 4:00 p.m.\n\n  Habitat Warehouse | Greater Salt Lake Area\n\nWhy It Matters\n\nA stable home lays the foundation for self-reliance and long-term success. Your bid helps local families secure the safety and opportunity they need to build brighter futures. The outcome? Stronger families. Stronger workforce. Stronger Utah.\n\nJoin Us This season\, turn generosity into lasting impact: Bid on Auction Items HERE\n\nBid generously. Strengthen our community. Help more families build stability\, dignity\, and opportunity.
X-ALT-DESC;FMTTYPE=text/html:<h4><strong><span style="font-size:16px\;"><span style="font-family:arial\;"><em>Invest in local families. Strengthen our community. Build lasting opportunity.</em></span></span></strong></h4>\n\n<p><span style="font-size:16px\;"><span style="font-family:arial\;">This holiday season\, Habitat for Humanity of Greater Salt Lake invites business and community leaders to join us for our <strong>Holiday Silent Auction</strong>&mdash\;a festive opportunity to support local families while strengthening the foundation of our regional economy.</span></span></p>\n\n<p><span style="font-size:16px\;"><span style="font-family:arial\;">With one-of-a-kind experiences\, curated items\, and outstanding contributions from local partners\, this auction offers meaningful ways to give back. <strong>Every bid directly supports affordable housing and critical home repairs</strong> for Utah families&mdash\;helping parents build stability\, children succeed\, and neighborhoods thrive.</span></span></p>\n\n<p><span style="font-size:16px\;"><span style="font-family:arial\;">At Habitat\, we know that safe\, affordable housing isn&rsquo\;t just a roof over a family&rsquo\;s head. It fuels educational achievement\, improves health outcomes\, and builds a reliable\, empowered workforce. When families thrive\, <strong>local businesses and our economy thrive too.</strong></span></span></p>\n\n<p><span style="font-size:16px\;"><span style="font-family:arial\;">Your participation creates measurable impact&mdash\;delivering real returns in the form of stronger communities\, increased financial resilience\, and a healthier future for our region.</span></span></p>\n\n<h3><span style="font-size:16px\;"><span style="font-family:arial\;"><strong>Event Details</strong></span></span></h3>\n\n<p><span style="font-size:16px\;"><span style="font-family:arial\;">&bull\;&nbsp\;<strong>November 1&ndash\;8</strong><br />\n&bull\;&nbsp\; Bidding opens <strong>noon November 1</strong> | closes <strong>noon November 8</strong><br />\n&bull\; Pickup: <strong>November 10&ndash\;14 | 9:00 a.m.&ndash\;4:00 p.m.</strong><br />\n&bull\; Habitat Warehouse | Greater Salt Lake Area</span></span></p>\n\n<h3><span style="font-size:16px\;"><span style="font-family:arial\;"><strong>Why It Matters</strong></span></span></h3>\n\n<p><span style="font-size:16px\;"><span style="font-family:arial\;">A stable home lays the foundation for self-reliance and long-term success. Your bid helps local families secure the safety and opportunity they need to build brighter futures. The outcome? <strong>Stronger families. Stronger workforce. Stronger Utah.</strong></span></span></p>\n\n<p><span style="font-size:16px\;"><span style="font-family:arial\;"><strong>Join Us&nbsp\;</strong>This season\, turn generosity into lasting impact: <a href="https://e.givesmart.com/events/Los/">Bid on Auction Items HERE</a></span></span></p>\n\n<h3><span style="font-size:16px\;"><span style="font-family:arial\;"><strong>Bid generously. Strengthen our community. Help more families build stability\, dignity\, and opportunity.</strong></span></span></h3>\n
LOCATION:Auction Link: https://e.givesmart.com/events/Los/ Pickup: November 10 14 | 9:00 a.m. 4:00 p.m. Habitat Warehouse | Greater Salt Lake Area
UID:e.1263.18235
SEQUENCE:3
DTSTAMP:20260420T062245Z
URL:http://business.southvalleychamber.com/events/details/habitat-for-humanity-silent-charity-auction-nov-1-8-18235
END:VEVENT

END:VCALENDAR
