BEGIN:VCALENDAR
VERSION:2.0
PRODID:-//ChamberMaster//Event Calendar 2.0//EN
METHOD:PUBLISH
X-PUBLISHED-TTL:P3D
REFRESH-INTERVAL:P3D
CALSCALE:GREGORIAN
BEGIN:VEVENT
DTSTART:20250920T000000Z
DTEND:20250920T030000Z
X-MICROSOFT-CDO-ALLDAYEVENT:FALSE
SUMMARY:Hillcrest Bank Presents the Do More Concert for Charity
DESCRIPTION:Do More Concert Featuring The War and Treaty | Friday\, September 19th\n\n\n\nHillcrest Bank\, a division of NBH Bank\, is proud to present the Do More Concert for Charity\, featuring The War And Treaty.\n\n\n\nNet proceeds from the Do More Concert will benefit Habitat for Humanity Greater Salt Lake Area in their mission to build affordable homes\, making critical home repairs\, offer low-cost building materials and household items in their ReStore\, and support Habitat for Humanity's global housing projects.\n\n\n\nFounded in 2014 by the husband-and-wife duo Michael Trotter Jr. and Tanya Trotter\, The War And Treaty has emerged as one of the most electrifying new acts in American music. Recently earning their first ever GRAMMY nominations for Best New Artist and Best American Roots Song for "Blank Page\," they also received this year their first ever Duo of the Year nomination from the Country Music Association\, Vocal Duo nomination from the Academy of Country Music\, plus recognition by the Country Music Hall of Fame\, the Rock & Roll Hall of Fame\, the Grand Ole Opry\, and the Americana Music Association including earning AMA Duo/Group of the Year for the second straight year.\n\n\n\nThe Do More Concert for Charity will be held on Friday\, September 19\, 2025 at SKY SLC\, 149 Pierpont Ave.\, in Salt Lake City\, UT.\n\n\n\nYour ticket price includes appetizers along with select beer and wine\, and the opportunity to Do More for our community. Doors open at 6:00pm\, with the program starting at 7:00pm. Must be 21+ to enter.
X-ALT-DESC;FMTTYPE=text/html:<span style="font-size:16px"><span style="font-family:arial\,helvetica\,sans-serif"><strong>Do More Concert Featuring The War and Treaty | Friday\, September 19th</strong><br />\n<br />\nHillcrest Bank\, a division of NBH Bank\, is proud to present the <strong>Do More Concert for Charity\, featuring The War And Treaty.</strong><br />\n<br />\nNet proceeds from the Do More Concert will <strong>benefit Habitat for Humanity Greater Salt Lake Area </strong>in their mission to build affordable homes\, making critical home repairs\, offer low-cost building materials and household items in their ReStore\, and support Habitat for Humanity&rsquo\;s global housing projects.<br />\n<br />\nFounded in 2014 by the husband-and-wife duo Michael Trotter Jr. and Tanya Trotter\, The War And Treaty has emerged as one of the most electrifying new acts in American music. Recently earning their first ever GRAMMY nominations for Best New Artist and Best American Roots Song for &ldquo\;Blank Page\,&rdquo\; they also received this year their first ever Duo of the Year nomination from the Country&nbsp\;Music Association\, Vocal Duo nomination from the Academy of Country Music\, plus recognition by the Country Music Hall of Fame\, the Rock &amp\; Roll Hall of Fame\, the Grand Ole Opry\, and the Americana Music Association including earning AMA Duo/Group of the Year for the second straight year.<br />\n<br />\n<strong>The Do More Concert for Charity will be held on Friday\, September 19\, 2025 at SKY SLC\, 149 Pierpont Ave.\, in Salt Lake City\, UT.</strong><br />\n<br />\nYour ticket price includes appetizers along with select beer and wine\, and the opportunity to Do More for our community. Doors open at 6:00pm\, with the program starting at 7:00pm. <strong>Must be 21+ to enter.</strong></span></span><br />\n&nbsp\;
LOCATION:SKY SLC | 149 Pierpont Ave. in Salt Lake City\, UT 84101
UID:e.1263.15794
SEQUENCE:3
DTSTAMP:20260420T201509Z
URL:http://business.southvalleychamber.com/events/details/hillcrest-bank-presents-the-do-more-concert-for-charity-15794
END:VEVENT

END:VCALENDAR
