BEGIN:VCALENDAR
VERSION:2.0
PRODID:-//ChamberMaster//Event Calendar 2.0//EN
METHOD:PUBLISH
X-PUBLISHED-TTL:P3D
REFRESH-INTERVAL:P3D
CALSCALE:GREGORIAN
BEGIN:VEVENT
DTSTART:20251115T230000Z
DTEND:20251116T050000Z
X-MICROSOFT-CDO-ALLDAYEVENT:FALSE
SUMMARY:Invitation to Infinity Jewels USA 3rd Year Anniversary Celebration
DESCRIPTION:Come Celebrate Infinity Jewels' 3rd Anniversary!\n\n\n\nWe're excited to celebrate our 3rd Year Anniversary this Saturday\, November 15\, from 4 PM to 10 PM at our showroom in Sandy\, Utah.\n\n\n\nWe're a family-owned local brand\, creating everything in-house with over 30 years of design experience. This weekend\, we're doing something big to celebrate   showcasing our newest collections\, welcoming guests\, and sharing desserts\, giveaways\, and great energy.\n\n\n\nAn exclusive event. See Utah's largest ready-to-go holiday gift collection\, all in-house and one-of-a-kind unique items!\n\n\n\nWith appreciation\,\n\nTro & Family
X-ALT-DESC;FMTTYPE=text/html:<strong style="font-family: arial\; font-size: 16px\;">Come Celebrate Infinity Jewels&rsquo\; 3rd Anniversary!</strong><br />\n<br />\n<span style="font-size:16px\;"><span style="font-family:arial\;">We&rsquo\;re excited to celebrate our 3rd Year Anniversary this <strong>Saturday\, November 15\, from 4 PM to 10 PM </strong>at our showroom in Sandy\, Utah.<br />\n<br />\nWe&rsquo\;re a family-owned local brand\, creating everything in-house with over 30 years of design experience. This weekend\, we&rsquo\;re doing something big to celebrate &mdash\; showcasing our newest collections\, welcoming guests\, and sharing desserts\, giveaways\, and great energy.</span></span><br />\n<br />\n<span style="font-family: arial\; font-size: 16px\;">An exclusive event. See Utah&rsquo\;s largest ready-to-go holiday gift collection\, all in-house and one-of-a-kind unique items!</span><br style="font-family: arial\; font-size: 16px\;" />\n<br />\n<span style="font-size:16px\;"><span style="font-family:arial\;">With appreciation\,<br />\nTro &amp\; Family</span></span>
LOCATION:Infinity Jewels USA | 9290 S Village Shop Dr\, Sandy\, Utah (801) 900-9995
UID:e.1263.18245
SEQUENCE:3
DTSTAMP:20260420T080203Z
URL:http://business.southvalleychamber.com/events/details/invitation-to-infinity-jewels-usa-3rd-year-anniversary-celebration-18245
END:VEVENT

END:VCALENDAR
