BEGIN:VCALENDAR
VERSION:2.0
PRODID:-//ChamberMaster//Event Calendar 2.0//EN
METHOD:PUBLISH
X-PUBLISHED-TTL:P3D
REFRESH-INTERVAL:P3D
CALSCALE:GREGORIAN
BEGIN:VEVENT
DTSTART:20220810T173000Z
DTEND:20220810T190000Z
X-MICROSOFT-CDO-ALLDAYEVENT:FALSE
SUMMARY:Let's Do Lunch
DESCRIPTION:James Hadlock speaking on Emotional Prosperity in the workplace
X-ALT-DESC;FMTTYPE=text/html:James Hadlock speaking on Emotional Prosperity in the workplace
LOCATION:Embassy Suites- 10333 S South Jordan Gateway \, South Jordan
UID:e.1263.13125
SEQUENCE:3
DTSTAMP:20260424T150610Z
URL:http://business.southvalleychamber.com/events/details/let-s-do-lunch-13125
END:VEVENT

END:VCALENDAR
