BEGIN:VCALENDAR
VERSION:2.0
PRODID:-//ChamberMaster//Event Calendar 2.0//EN
METHOD:PUBLISH
X-PUBLISHED-TTL:P3D
REFRESH-INTERVAL:P3D
CALSCALE:GREGORIAN
BEGIN:VEVENT
DTSTART:20260610T173000Z
DTEND:20260610T190000Z
X-MICROSOFT-CDO-ALLDAYEVENT:FALSE
SUMMARY:Let's Do Lunch - Save the Date
DESCRIPTION:Let's Do Lunch is a popular networking lunch that combines relationship-building with professional development\, giving you time to connect with the right people and the right businesses.\n\n\n\nOver a catered meal\, attendees exchange ideas\, strengthen relationships\, and discover new opportunities to grow. It's a simple yet powerful way to expand your network while investing in your professional growth.
X-ALT-DESC;FMTTYPE=text/html:<span style="font-size:13px\;"><span style="font-family:sans-serif\,arial\,verdana\,trebuchet ms\;"><span style="font-family:aptos\,sans-serif\;"><span style="font-size:16px\;"><span style="font-family:arial\;"><strong>Let&#39\;s Do Lunch </strong>is a popular networking lunch that combines relationship-building with professional development\, giving you time to connect with the right people and the right businesses.<br />\n<br />\nOver a catered meal\, attendees exchange ideas\, strengthen relationships\, and discover new opportunities to grow. It&rsquo\;s a simple yet powerful way to expand your network while investing in your professional </span></span></span></span></span><span style="font-size:16px\;"><span style="font-family:arial\;">growth.</span></span>
LOCATION:Locations vary within the South Valley area.
UID:e.1263.18299
SEQUENCE:3
DTSTAMP:20260420T073436Z
URL:http://business.southvalleychamber.com/events/details/let-s-do-lunch-save-the-date-18299
END:VEVENT

END:VCALENDAR
