BEGIN:VCALENDAR
VERSION:2.0
PRODID:-//ChamberMaster//Event Calendar 2.0//EN
METHOD:PUBLISH
X-PUBLISHED-TTL:P3D
REFRESH-INTERVAL:P3D
CALSCALE:GREGORIAN
BEGIN:VEVENT
DTSTART:20250813T173000Z
DTEND:20250813T190000Z
X-MICROSOFT-CDO-ALLDAYEVENT:FALSE
SUMMARY:Meet the Member Lunch
DESCRIPTION:Join us for our Meet the Member Lunch\, where our members will have the opportunity to introduce themselves and their businesses to the Chamber! Up to 15 of our members will share a 2-minute pitch presentation and receive their official member certificate! Members will also be able to distribute flyers\, coupons\, giveaways and more.\n\n\n\nPitch spots fill up quickly. If you are interested in pitching your business\, please contact Cory Covington cory@southvalleychamber.com. Registration does not enroll you to pitch.
X-ALT-DESC;FMTTYPE=text/html:<span style="font-size:16px\;"><span style="font-family:arial\;">Join us for our Meet the Member Lunch\, where our members will have the opportunity to introduce themselves and their businesses to the Chamber! Up to 15 of our members will share a 2-minute pitch presentation and receive their official member certificate! Members will also be able to distribute flyers\, coupons\, giveaways and more.</span></span><br />\n<br />\n<span style="font-family: arial\; font-size: 16px\;">Pitch spots fill up quickly.&nbsp\;</span><span style="font-size:16px\;"><span style="font-family:arial\;">If you are interested in pitching your business\, please contact Cory Covington cory@southvalleychamber.com. Registration does not enroll you to pitch.</span></span>
LOCATION:South Valley Chamber Offices - Pinnacle Room 8th Floor 9800 S Monroe Street in Sandy (Inside the Mountain America Credit Union building) Please check-in when you arrive in the front lobby. Plenty of parking available in the covered garage between the MACU and Hale Centre Theatres buildings.
UID:e.1263.14892
SEQUENCE:3
DTSTAMP:20260422T010707Z
URL:http://business.southvalleychamber.com/events/details/meet-the-member-lunch-14892
END:VEVENT

END:VCALENDAR
