BEGIN:VCALENDAR
VERSION:2.0
PRODID:-//ChamberMaster//Event Calendar 2.0//EN
METHOD:PUBLISH
X-PUBLISHED-TTL:P3D
REFRESH-INTERVAL:P3D
CALSCALE:GREGORIAN
BEGIN:VEVENT
DTSTART:20251023T210000Z
DTEND:20251023T213000Z
X-MICROSOFT-CDO-ALLDAYEVENT:FALSE
SUMMARY:Ribbon Cutting - Elite Esthetics Academy
DESCRIPTION:Please join us in celebrating the opening of the new Elite Esthetics Academy in Draper with a ribbon cutting on Thursday\, October 23rd at 3 PM!\n\n\n\nAbout Elite Esthetics Academy:\nElite Esthetics Academy provides advanced esthetics education and hands-on med spa training\, empowering students with the skills and confidence to excel in Utah's beauty industry.
X-ALT-DESC;FMTTYPE=text/html:<span style="font-size:16px"><span style="font-family:arial">Please join us in celebrating&nbsp\;<strong>the opening of the new </strong></span><strong><span style="font-family:arial\,helvetica\,sans-serif">Elite Esthetics Academy&nbsp\;</span></strong><span style="font-family:arial"><strong>in Draper&nbsp\;</strong>with a ribbon cutting on&nbsp\;<strong>Thursday\,&nbsp\;October 23rd at 3 PM</strong>!</span></span><br />\n<br />\n<span style="font-size:16px"><span style="font-family:arial"><span style="color:black"><strong>About </strong></span></span><strong><span style="font-family:arial\,helvetica\,sans-serif">Elite Esthetics Academy</span></strong></span><span style="font-size:16px"><span style="font-family:arial"><span style="color:black"><strong>:</strong></span></span></span>\n<p><span style="font-size:16px"><span style="font-family:arial\,helvetica\,sans-serif">Elite Esthetics Academy provides advanced esthetics education and hands-on med spa training\, empowering students with the skills and confidence to excel in Utah&rsquo\;s beauty industry.</span></span></p>\n
LOCATION:Elite Esthetics Academy | 66 E Wadsworth Park Drive\, Suite 140 in Draper\, Utah.
UID:e.1263.18195
SEQUENCE:3
DTSTAMP:20260420T154524Z
URL:http://business.southvalleychamber.com/events/details/ribbon-cutting-elite-esthetics-academy-18195
END:VEVENT

END:VCALENDAR
