BEGIN:VCALENDAR
VERSION:2.0
PRODID:-//ChamberMaster//Event Calendar 2.0//EN
METHOD:PUBLISH
X-PUBLISHED-TTL:P3D
REFRESH-INTERVAL:P3D
CALSCALE:GREGORIAN
BEGIN:VEVENT
DTSTART:20251008T200000Z
DTEND:20251008T203000Z
X-MICROSOFT-CDO-ALLDAYEVENT:FALSE
SUMMARY:Ribbon Cutting - LivAway Suites Draper
DESCRIPTION:Please join us in celebrating the opening of the new LivAway Suites in Draper with a ribbon cutting on Wednesday\, October 8th at 2 PM!\n\n\n\nAbout LivAway Suites:\nYour home base at LivAway Suites provides all the necessities for a hassle-free stay: a fully equipped in-room kitchen with modern appliances\, a private bathroom\, and sleek\, Scandinavian-inspired furnishings. Designed to elevate the traditional extended stay experience\, LivAway Suites also offers smart TVs in every suite\, smart guest laundry facilities\, mobile check-in\, and the ability to manage your reservation from anywhere.
X-ALT-DESC;FMTTYPE=text/html:<span style="font-size:16px"><span style="font-family:arial">Please join us in celebrating&nbsp\;<strong>the opening of the new LivAway Suites in Draper&nbsp\;</strong>with a ribbon cutting on&nbsp\;<strong>Wednesday\,&nbsp\;October 8th at 2 PM</strong>!</span></span><br />\n<br />\n<span style="font-size:16px"><span style="font-family:arial"><span style="color:black"><strong>About LivAway Suites:</strong></span></span></span>\n<p><span style="font-size:16px"><span style="font-family:arial\,helvetica\,sans-serif">Your home base at LivAway Suites provides all the necessities for a hassle-free stay: a fully equipped in-room kitchen with modern appliances\, a private bathroom\, and sleek\, Scandinavian-inspired furnishings. Designed to elevate the traditional extended stay experience\, LivAway Suites also offers smart TVs in every suite\, smart guest laundry facilities\, mobile check-in\, and the ability to manage your reservation from anywhere.</span></span></p>\n
LOCATION:LivAway Suites | 13677 S 600 W\, Draper
UID:e.1263.15795
SEQUENCE:3
DTSTAMP:20260420T154828Z
URL:http://business.southvalleychamber.com/events/details/ribbon-cutting-livaway-suites-draper-15795
END:VEVENT

END:VCALENDAR
