BEGIN:VCALENDAR
VERSION:2.0
PRODID:-//ChamberMaster//Event Calendar 2.0//EN
METHOD:PUBLISH
X-PUBLISHED-TTL:P3D
REFRESH-INTERVAL:P3D
CALSCALE:GREGORIAN
BEGIN:VEVENT
DTSTART:20250224T170000Z
DTEND:20250224T180000Z
X-MICROSOFT-CDO-ALLDAYEVENT:FALSE
SUMMARY:Ribbon Cutting - McAlister's Deli
DESCRIPTION:Please join us for a Ribbon Cutting Celebration to welcome McAlister's Deli to Sandy on Monday\, February 24th at 10:00 AM.\n\n\n\nThe grand opening celebration will feature:\n\n	Friday\, February 21st - Community Heroes Lunch: To show appreciation for those who tirelessly serve the Sandy community\, McAlister's is inviting first responders\, medical professionals\, active military personnel\, veterans\, teachers\, and truck drivers to enjoy a complimentary meal from 12:00-2:00 PM.  (A valid badge or ID is required. (Complimentary meals include one Entr e and Beverage\, excludes Kids Meals\, add-ons\, and extras)\, limit one per person\, dine-in only.)\n	Monday\, February 24th - Ribbon Cutting Ceremony: The restaurant will host a ribbon-cutting ceremony from 10:00   10:30 AM.\n	Free Tea and Free Clubs for a Year Giveaway: When doors open at 10:30 AM\, the first 100 guests in line at the new location will receive a Free Tea Pass* or a Free Club for a Year Reward Voucher**. One Club Reward Voucher or Tea Pass per person (ages 16+). No purchase is necessary. Additional terms and conditions apply\, see below. \n\n\n\n\nAbout McAlister's Deli:\n\n\nFounded in 1989\, McAlister's Deli  is a fast-casual restaurant chain known for its genuine hospitality\, sandwiches\, spuds\, soups\, salads\, desserts\, and McAlister's Famous Sweet Tea . In addition to dine-in and take-out service\, McAlister's Deli also offers catering with a selection of sandwich trays\, box lunches\, desserts\, a hot spud bar\, and more. With numerous industry accolades\, the McAlister's Deli brand had more than 530 restaurants in 29 states as of March 31\, 2024. The company is headquartered in Atlanta\, GA. For more information\, visit mcalistersdeli.com\, and find McAlister's on social media at Facebook.com/McAlistersDeli\, Twitter.com/McAlistersDeli\, and Instagram.com/McAlistersDeli. \n\n\n\n\n\n\n\n\n\n * Tea Pass valid for one Big Tea per day for thirty (30) consecutive days including Sweet Tea\, Unsweet Tea\,   Sweet &   Unsweet Tea\, or   Lemonade &   Sweet/Unsweet Tea (excluding flavor shots) at participating locations\, subject to availability. Must be a McAlister's Rewards member to redeem. Service fee and sales tax charged on each Tea Pass Daily Tea redemption via in-app\, online\, and certain call-in orders. See order checkout page for service fee amount. Must unlock Tea Pass using the 10-digit code on the card online or in the McAlister's app by the expiration date printed on pass. Tea Pass subject to terms and conditions on card. Void where prohibited.\n\n\n\n**"Free Club Sandwiches for a Year" means one Reward per week redeemable for one McAlister's Club Sandwich (excluding add-ons\, extras\, taxes & fees) for 52 consecutive weeks commencing upon date that promo code is entered. No substitutions. Must be a McAlister's Rewards member to redeem at participating locations. Each weekly Reward is valid for one week after its deposited into Rewards account. Single use. Promo code expires 12/31/2025. Not valid with any other offer reward\, or third-party delivery. Service fee applies to online\, app and certain call-in orders\, other fees and taxes may apply to all orders\; see checkout for more details. Void where prohibited.
X-ALT-DESC;FMTTYPE=text/html:<span style="font-size:16px\;"><span style="font-family:arial\;">Please join us for a Ribbon Cutting Celebration to welcome&nbsp\;<b>McAlister&#39\;s Deli to Sandy&nbsp\;</b>on Monday\, February 24th at 10:00 AM.<br />\n<br />\n<span style="color:black\;">The grand opening celebration will feature:</span></span></span>\n<ul>\n	<li style="margin-bottom:0in\;"><span style="font-size:16px\;"><span style="font-family:arial\;"><strong><span style="color:black\;">Friday\, February 21<sup>st</sup> - Community Heroes Lunch:</span></strong><span style="color:black\;"> To show appreciation for those who tirelessly serve the Sandy community\, McAlister&rsquo\;s is inviting first responders\, medical professionals\, active military personnel\, veterans\, teachers\, and truck drivers to enjoy a complimentary meal from<strong> 12:00-2:00 PM</strong>.&nbsp\; (A valid badge or ID is required. (Complimentary meals include one Entr&eacute\;e and Beverage\, excludes Kids Meals\, add-ons\, and extras)\, limit one per person\, dine-in only.)</span></span></span></li>\n	<li style="margin-bottom:0in\;"><span style="font-size:16px\;"><span style="font-family:arial\;"><strong><span style="color:black\;">Monday\, February 24<sup>th</sup> - Ribbon Cutting Ceremony: </span></strong><span style="color:black\;">The restaurant will host a ribbon-cutting ceremony from<strong> 10:00 &ndash\; 10:30 AM.</strong></span></span></span></li>\n	<li style="margin-bottom:0in\;"><span style="font-size:16px\;"><span style="font-family:arial\;"><a><strong><span style="color:black\;">Free Tea and Free Clubs for a Year Giveaway:</span></strong></a> <span style="color:black\;">When doors open at <strong>10:30 AM\,</strong> the first 100 guests in line at the new location will receive a Free Tea Pass* or a Free Club for a Year</span> <span style="color:black\;">Reward Voucher**. One Club Reward Voucher or Tea Pass per person (ages 16+). No purchase is necessary.</span> <span style="color:black\;">Additional terms and conditions apply\, see below.</span>&nbsp\;</span></span></li>\n</ul>\n\n<p><br />\n<span style="font-size: 16px\;"><span style="font-family: arial\;"><strong>About McAlister&#39\;s Deli</strong><strong><strong>:</strong></strong></span></span></p>\n\n<div data-block-type="2" id="block-ab661f98301ea153e259">\n<p><span style="font-size:16px\;"><span style="font-family:arial\;"><span style="color:black\;">Founded in 1989\, McAlister&rsquo\;s Deli<sup>&reg\;</sup> is a fast-casual restaurant chain known for its genuine hospitality\, sandwiches\, spuds\, soups\, salads\, desserts\, and McAlister&rsquo\;s Famous Sweet Tea&trade\;. In addition to dine-in and take-out service\, McAlister&rsquo\;s Deli also offers catering with a selection of sandwich trays\, box lunches\, desserts\, a hot spud bar\, and more. With numerous industry accolades\, the McAlister&rsquo\;s Deli brand had more than 530 restaurants in 29 states as of March 31\, 2024. The company is headquartered in Atlanta\, GA. For more information\, visit&nbsp\;</span><a href="https://www.mcalistersdeli.com/?utm_medium=pr">mcalistersdeli.com</a><span style="color:black\;">\, and find McAlister&rsquo\;s on social media at </span><a href="https://www.facebook.com/mcalistersdeli/">Facebook.com/McAlistersDeli</a><span style="color:black\;">\, </span><a href="https://twitter.com/McAlistersDeli">Twitter.com/McAlistersDeli</a><u><span style="color:#0563C1\;">\, </span></u><span style="color:black\;">and </span><a href="https://www.instagram.com/mcalistersdeli/">Instagram.com/McAlistersDeli</a><span style="color:black\;">.&nbsp\;</span></span></span></p>\n</div>\n\n<div data-block-type="2" id="block-ab661f98301ea153e259">\n<p><br />\n<br />\n<br />\n<span style="font-size:16px\;"><span style="font-family:arial\;">&nbsp\;<span style="color:black\;">* Tea Pass valid for one Big Tea per day for thirty (30) consecutive days including Sweet Tea\, Unsweet Tea\, &frac12\; Sweet &amp\; &frac12\; Unsweet Tea\, or &frac12\; Lemonade &amp\; &frac12\; Sweet/Unsweet Tea (excluding flavor shots) at participating locations\, subject to availability. Must be a McAlister&rsquo\;s Rewards member to redeem. Service fee and sales tax charged on each Tea Pass Daily Tea redemption via in-app\, online\, and certain call-in orders. See order </span><span style="color:#000000\;">checkout page for service fee amount. Must unlock Tea Pass using the 10-digit code on the card online or in the McAlister&rsquo\;s app by</span><a><span style="color:#000000\;"> the expiration date printed on pass</span></a><span style="color:black\;">. Tea Pass subject to terms and conditions on card. Void where prohibited.</span><br />\n<br />\n<span style="color:black\;">**&rdquo\;Free Club Sandwiches for a Year&rdquo\; means one Reward per week redeemable for one McAlister&rsquo\;s Club Sandwich (excluding add-ons\, extras\, taxes &amp\; fees) for 52 consecutive weeks commencing upon date that promo code is entered. No substitutions. Must be a McAlister&rsquo\;s Rewards member to redeem at participating locations. Each weekly Reward is valid for one week after its deposited into Rewards account. Single use. Promo code expires 12/31/2025. Not valid with any other offer reward\, or third-party delivery. Service fee applies to online\, app and certain call-in orders\, other fees and taxes may apply to all orders\; see checkout for more details. Void where prohibited.</span></span></span></p>\n</div>\n
LOCATION:McAlister's Deli 7810 South 1300 East in Sandy
UID:e.1263.14935
SEQUENCE:3
DTSTAMP:20260423T105838Z
URL:http://business.southvalleychamber.com/events/details/ribbon-cutting-mcalister-s-deli-14935
END:VEVENT

END:VCALENDAR
