BEGIN:VCALENDAR
VERSION:2.0
PRODID:-//ChamberMaster//Event Calendar 2.0//EN
METHOD:PUBLISH
X-PUBLISHED-TTL:P3D
REFRESH-INTERVAL:P3D
CALSCALE:GREGORIAN
BEGIN:VEVENT
DTSTART:20250313T200000Z
DTEND:20250313T210000Z
X-MICROSOFT-CDO-ALLDAYEVENT:FALSE
SUMMARY:Ribbon Cutting - Mod Doc Draper
DESCRIPTION:Please join us for a Ribbon Cutting Celebration to welcome Mod Doc to their newest location in Draper on Thursday\, March 13th at 2:00 PM.  \n\n \nAbout Mod Doc Draper:\n\nMOD-DOC is an integrated\, medicine 3.0 model practice offering skilled primary and urgent care to the communities of Utah. Under the leadership of Donald Hastie\, FNP-NP\, the team treats each patient individually\, working toward whole-body holistic health rather than focusing primarily on symptom management.
X-ALT-DESC;FMTTYPE=text/html:<span style="font-size: 16px\;"><span style="font-family: arial\;">Please join us for a Ribbon Cutting Celebration to welcome <b>Mod Doc </b>to<b>&nbsp\;</b>their newest location in Draper on <strong>Thursday\, March 13th at </strong></span></span><strong style="font-family: arial\; font-size: 16px\;">2</strong><strong style="font-family: arial\; font-size: 16px\;">:00 PM</strong><span style="font-size: 16px\;"><span style="font-family: arial\;">.&nbsp\;&nbsp\;</span></span><br />\n&nbsp\;\n<p><strong style="font-family: arial\; font-size: 16px\;">About Mod Doc Draper</strong><strong><strong style="font-family: arial\; font-size: 16px\;">:</strong></strong></p>\n\n<p><span style="font-size:16px\;"><span style="font-family:arial\;"><a role="presentation" target="_self"><span style="color:#000000\;">MOD-DOC is an integrated\, medicine 3.0 model practice offering skilled primary and urgent care to the communities of Utah. Under the leadership of Donald Hastie\, FNP-NP\, the team treats each patient individually\, working toward whole-body holistic health rather than focusing primarily on symptom management.</span></a></span></span></p>\n
LOCATION:Mod Doc Draper 38 West 13775 South\, Suite110 in Draper
UID:e.1263.14937
SEQUENCE:3
DTSTAMP:20260423T074731Z
URL:http://business.southvalleychamber.com/events/details/ribbon-cutting-mod-doc-draper-14937
END:VEVENT

END:VCALENDAR
