BEGIN:VCALENDAR
VERSION:2.0
PRODID:-//ChamberMaster//Event Calendar 2.0//EN
METHOD:PUBLISH
X-PUBLISHED-TTL:P3D
REFRESH-INTERVAL:P3D
CALSCALE:GREGORIAN
BEGIN:VEVENT
DTSTART:20250326T170000Z
DTEND:20250326T180000Z
X-MICROSOFT-CDO-ALLDAYEVENT:FALSE
SUMMARY:Ribbon Cutting - North Italia
DESCRIPTION:Please join us for a Ribbon Cutting Celebration to welcome North Italia to Mountain View Village in Riverton on Wednesday\, March 26th at 11AM.  \n\n \nAbout North Italia Riverton:\n\n\n\nAt every one of our North Italia locations\, our team is full of passionate and dedicated people who work hard every day to deliver the perfect handcrafted experience. We use only the best ingredients to create and serve consistently crave-worthy food\, like our chef's choice daily pizza and fresh pasta made from scratch daily. To us\, nothing is quite as satisfying as sharing a dish of handmade pasta and savoring every bite\, sip\, and moment with the people who matter most. From the warmth that draws you in\, to the vibrant energy letting you know you're in for something special\, the North experience invites you to indulge in not just what you taste\, but what you feel.
X-ALT-DESC;FMTTYPE=text/html:<span style="font-size: 16px\;"><span style="font-family: arial\;">Please join us for a Ribbon Cutting Celebration to welcome <b>North Italia&nbsp\;</b>to<b>&nbsp\;</b>Mountain View Village in&nbsp\;Riverton on <strong>Wednesday\, March 26th at 11AM</strong></span></span><span style="font-size: 16px\;"><span style="font-family: arial\;">.&nbsp\;&nbsp\;</span></span><br />\n&nbsp\;\n<p><strong style="font-family: arial\; font-size: 16px\;">About North Italia Riverton</strong><strong><strong style="font-family: arial\; font-size: 16px\;">:</strong></strong><br />\n<br />\n<span style="font-size:16px\;"><span style="font-family:arial\;">At every one of our North Italia locations\, our team is full of passionate and dedicated people who work hard every day to deliver the perfect handcrafted experience. We use only the best ingredients to create and serve consistently crave-worthy food\, like our chef&rsquo\;s choice daily pizza and fresh pasta made from scratch daily. To us\, nothing is quite as satisfying as sharing a dish of handmade pasta and savoring every bite\, sip\, and moment with the people who matter most. From the warmth that draws you in\, to the vibrant energy letting you know you&rsquo\;re in for something special\, the North experience invites you to indulge in not just what you taste\, but what you feel.</span></span></p>\n
LOCATION:North Italia - Located in Mountain View Village at 13303 S Teal Ridge Way\, Riverton (next to Lovesac).
UID:e.1263.15122
SEQUENCE:3
DTSTAMP:20260423T063104Z
URL:http://business.southvalleychamber.com/events/details/ribbon-cutting-north-italia-15122
END:VEVENT

END:VCALENDAR
