BEGIN:VCALENDAR
VERSION:2.0
PRODID:-//ChamberMaster//Event Calendar 2.0//EN
METHOD:PUBLISH
X-PUBLISHED-TTL:P3D
REFRESH-INTERVAL:P3D
CALSCALE:GREGORIAN
BEGIN:VEVENT
DTSTART:20250313T180000Z
DTEND:20250313T190000Z
X-MICROSOFT-CDO-ALLDAYEVENT:FALSE
SUMMARY:Ribbon Cutting - PayMore Riverton
DESCRIPTION:Please join us for a Ribbon Cutting Celebration to welcome PayMore to their newest location in Riverton on Thursday\, March 13th at NOON.\n\n \nAbout PayMore Riverton:\n\nPayMore  Stores is not your run-of-the-mill electronics retailer. We specialize in buying\, selling\, trading\, and recycling electronic devices. Our unique business model focuses on four critical pillars: top-dollar payments\, exceptional customer service\, comprehensive data safety\, and a strong commitment to environmental stewardship.
X-ALT-DESC;FMTTYPE=text/html:<span style="font-size: 16px\;"><span style="font-family: arial\;">Please join us for a Ribbon Cutting Celebration to welcome <b>PayMore&nbsp\;</b>to<b>&nbsp\;</b>their newest location in Riverton on <strong>Thursday\, March 13th at NOON.</strong></span></span><br />\n&nbsp\;\n<p><strong style="font-family: arial\; font-size: 16px\;">About PayMore Riverton:</strong><br />\n<span style="font-size:16px\;"><span style="font-family:arial\;">PayMore&reg\; Stores is not your run-of-the-mill electronics retailer. We specialize in buying\, selling\, trading\, and recycling electronic devices. Our unique business model focuses on four critical pillars: top-dollar payments\, exceptional customer service\, comprehensive data safety\, and a strong commitment to environmental stewardship.</span></span></p>\n
LOCATION:PayMore 1734 W 12600 S in Riverton
UID:e.1263.15124
SEQUENCE:3
DTSTAMP:20260423T074706Z
URL:http://business.southvalleychamber.com/events/details/ribbon-cutting-paymore-riverton-15124
END:VEVENT

END:VCALENDAR
