BEGIN:VCALENDAR
VERSION:2.0
PRODID:-//ChamberMaster//Event Calendar 2.0//EN
METHOD:PUBLISH
X-PUBLISHED-TTL:P3D
REFRESH-INTERVAL:P3D
CALSCALE:GREGORIAN
BEGIN:VEVENT
DTSTART:20250321T170000Z
DTEND:20250321T060000Z
X-MICROSOFT-CDO-ALLDAYEVENT:FALSE
SUMMARY:Ribbon Cutting - Peak Pickleball Club Draper
DESCRIPTION:Please join us for a Ribbon Cutting Celebration to welcome Peak Pickleball  Club to Draper on Friday\, March 21st at 11:00 AM.\n\n\n\nA special bonus will be a pickleball match between members of Draper's Fire and Police Departments! We hope to see you there!\n\n \nAbout Peak Pickleball Club:\n\nPeak Pickleball Club is a top-tier indoor facility that provides a sophisticated and comprehensive approach to the sport and our members' well-being.\n\nOur club has eight meticulously maintained\, professional-grade courts with custom lighting\, which creates an optimal playing environment and a more close-knit community of pickleballers.\n\nMembers enjoy an upscale experience with unique comforts and amenities: unlimited open play\, advanced booking privileges\, guest passes\, free court reservations\, towel service\, and locker rooms with showers. Our Recovery Zone includes restorative and therapeutic services such as red-light therapy\, and infrared sauna services you won't find at other pickleball facilities.\n\nPeak Pickleball Club offers certified instructors and coaching\; individual and group lessons\; and competitive and just-for-fun leagues\, ensuring all skill levels can enjoy the game and enhance their skills. Our programming also includes scheduled lessons\, leagues\, and open-play opportunities for children under age 16.
X-ALT-DESC;FMTTYPE=text/html:<span style="font-size: 16px\;"><span style="font-family: arial\;">Please join us for a Ribbon Cutting Celebration to welcome <b>Peak Pickleball&nbsp\; Club&nbsp\;</b>to<b>&nbsp\;</b>Draper on <strong>Friday\, March 21st at 11:00</strong></span></span><strong style="font-family: arial\; font-size: 16px\;">&nbsp\;AM</strong><span style="font-size: 16px\;"><span style="font-family: arial\;">.</span></span><br />\n<br />\n<span style="font-size:16px\;"><span style="font-family:arial\;">A <strong>special bonus </strong>will be a pickleball match between members of Draper&rsquo\;s Fire and Police Departments! We hope to see you there!</span></span><br />\n&nbsp\;\n<p><strong style="font-family: arial\; font-size: 16px\;">About Peak Pickleball Club</strong><strong><strong style="font-family: arial\; font-size: 16px\;">:</strong></strong></p>\n\n<p><span style="font-size:16px\;"><span style="font-family:arial\;">Peak Pickleball Club is a top-tier indoor facility that provides a sophisticated and comprehensive approach to the sport and our members&#39\; well-being.</span></span></p>\n\n<p><span style="font-size:16px\;"><span style="font-family:arial\;">Our club has eight meticulously maintained\, professional-grade courts with custom lighting\, which creates an optimal playing environment and a more close-knit community of pickleballers.</span></span></p>\n\n<p><span style="font-size:16px\;"><span style="font-family:arial\;">Members enjoy an upscale experience with unique comforts and amenities: unlimited open play\, advanced booking privileges\, guest passes\, free court reservations\, towel service\, and locker rooms with showers. Our Recovery Zone includes restorative and therapeutic services such as red-light therapy\, and infrared sauna&mdash\;services you won&#39\;t find at other pickleball facilities.</span></span></p>\n\n<p><span style="font-size:16px\;"><span style="font-family:arial\;">Peak Pickleball Club offers certified instructors and coaching\; individual and group lessons\; and competitive and just-for-fun leagues\, ensuring all skill levels can enjoy the game and enhance their skills. Our programming also includes scheduled lessons\, leagues\, and open-play opportunities for children under age 16.</span></span></p>\n
LOCATION:Peak Pickleball Club 1055 E Draper Parkway in Draper
UID:e.1263.15125
SEQUENCE:3
DTSTAMP:20260423T092735Z
URL:http://business.southvalleychamber.com/events/details/ribbon-cutting-peak-pickleball-club-draper-15125
END:VEVENT

END:VCALENDAR
