BEGIN:VCALENDAR
VERSION:2.0
PRODID:-//ChamberMaster//Event Calendar 2.0//EN
METHOD:PUBLISH
X-PUBLISHED-TTL:P3D
REFRESH-INTERVAL:P3D
CALSCALE:GREGORIAN
BEGIN:VEVENT
DTSTART:20251024T143000Z
DTEND:20251024T153000Z
X-MICROSOFT-CDO-ALLDAYEVENT:FALSE
SUMMARY:Ribbon Cutting - Shamrock Foodservice Warehouse in Sandy
DESCRIPTION:Please join us in celebrating the opening of the new Shamrock Foodservice Warehouse in Sandy with a ribbon cutting on Friday\, October 24th at 8:30 AM!\n\n\n\nAbout Shamrock Foodservice Warehouse:\nShamrock Foods\, the largest family-owned independent foodservice distributor in the West\, is introducing its Shamrock Foodservice Warehouse retail store to the Salt Lake City area. \n\n\n\nThis will be the 14th and first Utah store as Shamrock Foods continues its expansion as the perfect extension of Shamrock Foods foodservice distribution business\, which already serves Salt Lake City and surrounding area Shamrock Foods customers.  \n\n\n\nGrand Opening festivities will include giveaways\, grilling demonstrations by Shamrock Chefs\, special savings and product sampling. Beginning at 8:30 a.m.\, Shamrock Foods Company Senior Leadership will host a dedication ceremony and ribbon cutting\, which will also include a donation to a local non-profit. We'd be honored by your attendance at our ceremony and would welcome remarks from City Council Members.  \n\n\n\nShamrock Foodservice Warehouse is open to the public with no membership fee and is the one-stop shopping resource for restaurant operators\, home shoppers\, food trucks\, caterers\, small businesses\, non-profits\, and more. You can learn more about Shamrock Foodservice Warehouse here: https://www.shamrockfsw.com/.
X-ALT-DESC;FMTTYPE=text/html:<span style="font-size:16px"><span style="font-family:arial">Please join us in celebrating&nbsp\;<strong>the opening of the new Shamrock Foodservice Warehouse in Sandy&nbsp\;</strong>with a ribbon cutting on&nbsp\;<strong>Friday\,&nbsp\;October 24th at 8:30 AM</strong>!</span></span><br />\n<br />\n<span style="font-size:16px"><span style="font-family:arial\,helvetica\,sans-serif"><span style="color:black"><strong>About </strong></span><strong>Shamrock Foodservice Warehouse</strong></span></span><span style="font-size:16px"><span style="font-family:arial"><span style="color:black"><strong>:</strong></span></span></span>\n<p><span style="font-size:16px"><span style="font-family:arial\,helvetica\,sans-serif"><strong>Shamrock&nbsp\;Foods</strong>\, the largest family-owned independent foodservice distributor in the West\, is introducing its&nbsp\;Shamrock&nbsp\;Foodservice Warehouse retail store to the Salt Lake City area.&nbsp\;<br />\n<br />\nThis will be the 14th&nbsp\;and first Utah store as&nbsp\;Shamrock&nbsp\;Foods continues its expansion as the perfect extension of&nbsp\;Shamrock&nbsp\;Foods foodservice distribution business\, which already serves Salt Lake City and surrounding area&nbsp\;Shamrock&nbsp\;Foods customers.&nbsp\;&nbsp\;<br />\n<br />\n<strong>Grand Opening festivities </strong>will include giveaways\, grilling demonstrations by&nbsp\;Shamrock&nbsp\;Chefs\, special savings and product sampling.&nbsp\;Beginning at 8:30 a.m.\,&nbsp\;Shamrock&nbsp\;Foods Company Senior Leadership will host a dedication ceremony and ribbon cutting\, which will also include a donation to a local non-profit. We&rsquo\;d be honored by your attendance at our ceremony and would welcome remarks from City Council Members.&nbsp\;&nbsp\;<br />\n<br />\n<strong>Shamrock&nbsp\;Foodservice Warehouse</strong> is open to the public with no membership fee and is the one-stop shopping resource for restaurant operators\, home shoppers\, food trucks\, caterers\, small businesses\, non-profits\, and more. You can learn more about&nbsp\;Shamrock&nbsp\;Foodservice Warehouse here:&nbsp\;https://www.shamrockfsw.com/.&nbsp\;</span></span></p>\n
LOCATION:Shamrock Foodservice Warehouse | 7880 S 1300 E\, Sandy
UID:e.1263.15796
SEQUENCE:3
DTSTAMP:20260420T144505Z
URL:http://business.southvalleychamber.com/events/details/ribbon-cutting-shamrock-foodservice-warehouse-in-sandy-15796
END:VEVENT

END:VCALENDAR
