BEGIN:VCALENDAR
VERSION:2.0
PRODID:-//ChamberMaster//Event Calendar 2.0//EN
METHOD:PUBLISH
X-PUBLISHED-TTL:P3D
REFRESH-INTERVAL:P3D
CALSCALE:GREGORIAN
BEGIN:VEVENT
DTSTART:20250312T160000Z
DTEND:20250312T170000Z
X-MICROSOFT-CDO-ALLDAYEVENT:FALSE
SUMMARY:Ribbon Cutting - The Station Bar
DESCRIPTION:Please join us for a Ribbon Cutting Celebration to welcome The Station Bar to Herriman on Wednesday\, March 12th at 10:00 AM.  \n\n \nAbout The Station Bar Herriman:\n\nFounded by Adrian and her firefighter husband\, Bret\, The Station was born from their desire for a place to unwind\, feel safe\, and savor incredible food and drinks. Fueled by passion and purpose\, they set out to build a community hub like no other.\n\nThis powerhouse duo has brought their dream to life\, crafting a warm\, welcoming haven where people can relax\, connect\, and celebrate together. At The Station\, everyone has a seat at the table.
X-ALT-DESC;FMTTYPE=text/html:<span style="font-size:16px\;"><span style="font-family:arial\;">Please join us for a Ribbon Cutting Celebration to welcome <strong>The Station Bar&nbsp\;</strong>to&nbsp\;Herriman on Wednesday\, March 12th at 10:00 AM.&nbsp\;&nbsp\;</span></span><br />\n&nbsp\;\n<p><strong><span style="font-size:16px\;"><span style="font-family:arial\;">About The Station Bar Herriman:</span></span></strong></p>\n\n<p><span style="font-size:16px\;"><span style="font-family:arial\;">Founded by Adrian and her firefighter husband\, Bret\, The Station was born from their desire for a place to unwind\, feel safe\, and savor incredible food and drinks. Fueled by passion and purpose\, they set out to build a community hub like no other.</span></span></p>\n\n<p><span style="font-size:16px\;"><span style="font-family:arial\;">This powerhouse duo has brought their dream to life\, crafting a warm\, welcoming haven where people can relax\, connect\, and celebrate together. At The Station\, everyone has a seat at the table.</span></span></p>\n
LOCATION:The Station Bar at 12283 S Herriman Main Street in Herriman
UID:e.1263.15123
SEQUENCE:3
DTSTAMP:20260423T063152Z
URL:http://business.southvalleychamber.com/events/details/ribbon-cutting-the-station-bar-15123
END:VEVENT

END:VCALENDAR
