BEGIN:VCALENDAR
VERSION:2.0
PRODID:-//ChamberMaster//Event Calendar 2.0//EN
METHOD:PUBLISH
X-PUBLISHED-TTL:P3D
REFRESH-INTERVAL:P3D
CALSCALE:GREGORIAN
BEGIN:VEVENT
DTSTART:20250220T213000Z
DTEND:20250220T223000Z
X-MICROSOFT-CDO-ALLDAYEVENT:FALSE
SUMMARY:Ribbon Cutting - Veterinary Emergency Group
DESCRIPTION:Please join us for a Ribbon Cutting Celebration to welcome Veterinary Emergency Group to Sandy on Thursday\, February 20th at 2:30 PM.\n\n \nAbout Veterinary Emergency Group:\n\nEstablished in 2014\, Veterinary Emergency Group (VEG) is a company founded on a single mission: helping people and their pets when they need it most. VEG's rapidly growing group of hospitals has revolutionized the pet emergency experience with a customer-centered approach\, rapid response times\, and a highly trained emergency-focused staff.  VEG currently has more than 90 hospitals nationwide. To locate a VEG hospital near you or for more information\, please visit veg.com.
X-ALT-DESC;FMTTYPE=text/html:<span style="font-size:16px\;"><span style="font-family:arial\;">Please join us for a Ribbon Cutting Celebration to welcome <strong>Veterinary Emergency Group&nbsp\;</strong>to Sandy on Thursday\, February 20th at 2:30 PM.</span></span><br />\n&nbsp\;\n<p><span style="font-size:16px\;"><span style="font-family:arial\;"><strong style="font-family: arial\; font-size: 16px\;">About </strong><strong>Veterinary Emergency Group<strong style="font-family: arial\; font-size: 16px\;">:</strong></strong></span></span></p>\n\n<p dir="ltr" style="line-height:1.655\;margin-top:0pt\;margin-bottom:0pt\;"><span style="font-size:16px\;"><span style="font-family:arial\;"><span id="docs-internal-guid-b578c9e6-7fff-dbdc-59cf-3ea42a90ab28"><span style="color: rgb(0\, 0\, 0)\; font-variant-numeric: normal\; font-variant-east-asian: normal\; font-variant-alternates: normal\; font-variant-position: normal\; font-variant-emoji: normal\; vertical-align: baseline\; white-space-collapse: preserve\;">Established in 2014\, Veterinary Emergency Group (VEG) is a company founded on a single mission:&nbsp\;helping people and their pets when they need it most. VEG&#39\;s rapidly growing group of hospitals has revolutionized the pet emergency experience with a customer-centered approach\, rapid response times\, and a highly trained emergency-focused staff.&nbsp\; VEG currently has more than 90 hospitals&nbsp\;nationwide. To locate a VEG hospital near you or for more information\, please visit </span><a href="http://veg.com/" style="text-decoration-line: none\;"><span style="color: rgb(70\, 120\, 134)\; font-variant-numeric: normal\; font-variant-east-asian: normal\; font-variant-alternates: normal\; font-variant-position: normal\; font-variant-emoji: normal\; text-decoration-line: underline\; text-decoration-skip-ink: none\; vertical-align: baseline\; white-space-collapse: preserve\;">veg.com</span></a>.</span></span></span></p>\n
LOCATION:Veterinary Emergency Group 11084 S State Street in Sandy
UID:e.1263.14936
SEQUENCE:3
DTSTAMP:20260423T092938Z
URL:http://business.southvalleychamber.com/events/details/ribbon-cutting-veterinary-emergency-group-14936
END:VEVENT

END:VCALENDAR
