BEGIN:VCALENDAR
VERSION:2.0
PRODID:-//ChamberMaster//Event Calendar 2.0//EN
METHOD:PUBLISH
X-PUBLISHED-TTL:P3D
REFRESH-INTERVAL:P3D
CALSCALE:GREGORIAN
BEGIN:VEVENT
DTSTART:20250419T160000Z
DTEND:20250419T170000Z
X-MICROSOFT-CDO-ALLDAYEVENT:FALSE
SUMMARY:Riverton City Bunny Hop 2025
DESCRIPTION:Join Riverton City for a fun Easter tradition at the Riverton Bunny Hop! Families can stroll through Riverton City Park\, visiting stations to collect candy\, win prizes\, and enjoy Easter-themed activities. The Easter Bunny will make a special appearance for photos and quick visits with the kids.\n\nFamilies may arrive anytime between 10 a.m. and 11 a.m. and start at any station. Don't miss out on this egg-citing event! \n\n\n\nWhen: Saturday\, April 19\, 2025\n\nWhere: Riverton City Park\, 1452 W 12600 S\, Riverton\, Utah 84065 | MAP IT\n\nTime: 10 a.m. - 11 a.m.\n\nAges: 12 & younger
X-ALT-DESC;FMTTYPE=text/html:<p style="box-sizing: border-box\; margin: 0in 0in 22.5pt\; color: rgb(99\, 113\, 122)\; font-family: Poppins\, sans-serif\; font-size: 15px\; background-image: initial\; background-position: initial\; background-size: initial\; background-repeat: initial\; background-attachment: initial\; background-origin: initial\; background-clip: initial\;"><span style="font-size:16px\;"><span style="font-family:arial\;"><span style="box-sizing: border-box\; color: rgb(0\, 0\, 0)\;">Join Riverton City for a fun Easter tradition at the Riverton Bunny Hop! Families can stroll through Riverton City Park\, visiting stations to collect candy\, win prizes\, and enjoy Easter-themed activities. The Easter Bunny will make a special appearance for photos and quick visits&nbsp\;with the kids.</span></span></span></p>\n\n<p style="box-sizing: border-box\; margin: 0in 0in 22.5pt\; color: rgb(99\, 113\, 122)\; font-family: Poppins\, sans-serif\; font-size: 15px\; background-image: initial\; background-position: initial\; background-size: initial\; background-repeat: initial\; background-attachment: initial\; background-origin: initial\; background-clip: initial\;"><span style="font-size:16px\;"><span style="font-family:arial\;"><span style="box-sizing: border-box\; color: rgb(0\, 0\, 0)\;">Families may arrive anytime between 10 a.m. and 11 a.m. and start at any station. Don&#39\;t miss out on this egg-citing event! </span></span></span><br />\n<br />\n<span style="font-size:16px\;"><span style="font-family:arial\;"><span style="box-sizing: border-box\; color: rgb(0\, 0\, 0)\;"><strong style="box-sizing: border-box\;">When</strong>: Saturday\, April 19\, 2025</span><br style="box-sizing: border-box\;" />\n<span style="box-sizing: border-box\; color: rgb(0\, 0\, 0)\;"><strong style="box-sizing: border-box\;">Where</strong>: Riverton City Park\, 1452 W 12600 S\, Riverton\, Utah 84065 |&nbsp\;</span><a href="https://goo.gl/maps/RvazXQobTdce1EpR6" style="box-sizing: border-box\; background-color: transparent\; color: rgb(51\, 122\, 183)\; transition: background 0.3s ease 0s\;" target="_blank">MAP IT</a><br style="box-sizing: border-box\;" />\n<span style="box-sizing: border-box\; color: rgb(0\, 0\, 0)\;"><strong style="box-sizing: border-box\;">Time</strong>: 10 a.m. - 11 a.m.</span><br style="box-sizing: border-box\;" />\n<span style="box-sizing: border-box\; color: rgb(0\, 0\, 0)\;"><strong style="box-sizing: border-box\;">Ages</strong>: 12 &amp\; younger</span></span></span></p>\n
LOCATION:Where: Riverton City Park\, 1452 W 12600 S\, Riverton\, Utah 84065
UID:e.1263.15129
SEQUENCE:3
DTSTAMP:20260423T045023Z
URL:http://business.southvalleychamber.com/events/details/riverton-city-bunny-hop-2025-15129
END:VEVENT

END:VCALENDAR
