BEGIN:VCALENDAR
VERSION:2.0
PRODID:-//ChamberMaster//Event Calendar 2.0//EN
METHOD:PUBLISH
X-PUBLISHED-TTL:P3D
REFRESH-INTERVAL:P3D
CALSCALE:GREGORIAN
BEGIN:VEVENT
DTSTART:20250404T180000Z
DTEND:20250404T220000Z
X-MICROSOFT-CDO-ALLDAYEVENT:FALSE
SUMMARY:Riverton City Teen Egg-streme Chase 2025
DESCRIPTION:Teens ages 13-18 years old are invited to participate in Riverton's Teen Easter Scavenger Hunt to win fun prizes! Follow clues leading to safe local destinations and landmarks within our city. Participation is free\, but registration is required to be eligible for prizes.\n\n\n\nThe clues will be released to participants on Friday\, April 4\, at noon on Riverton City's Facebook and Instagram accounts. Teens can solve any of the clues and head to any of the locations to pick up a physical clue card. They will have until 4 p.m. that day to return to the Recreation Department at Riverton City Hall with all clue card locations marked. Grand prizes will be randomly drawn from all finished cards.\n\n\n\nWhen: Friday\, April 4\, 2025\n\nTime: Noon - 4 p.m.\n\nAges: 13-18 years old
X-ALT-DESC;FMTTYPE=text/html:<div style="box-sizing: border-box\; color: rgb(99\, 113\, 122)\; font-family: Poppins\, sans-serif\; font-size: 15px\;">\n<p style="box-sizing: border-box\; margin: 0px 0px 30px\;"><span style="font-size:16px\;"><span style="font-family:arial\;">Teens ages 13-18 years old are invited to participate in Riverton&rsquo\;s Teen Easter Scavenger Hunt to win fun prizes! Follow clues leading to&nbsp\;safe local destinations and landmarks within our city. Participation is free\, but registration is required to be eligible for prizes.<br />\n<br style="box-sizing: border-box\;" />\nThe clues will be released to participants on Friday\,&nbsp\;April 4\, at noon on Riverton City&#39\;s <a href="https://www.facebook.com/rivertonutahgov">Facebook </a>and <a href="https://www.instagram.com/rivertonutahgov/">Instagram</a> accounts.&nbsp\;Teens can solve any of the clues and head to any of the locations to pick up a physical clue card. They will have until 4 p.m. that day to return to the Recreation Department at Riverton City Hall with all clue card locations marked. Grand prizes will be randomly drawn from all finished cards.</span></span><br style="box-sizing: border-box\;" />\n<br style="box-sizing: border-box\;" />\n<strong style="font-family: arial\; font-size: 16px\; box-sizing: border-box\;">When</strong><span style="font-family: arial\; font-size: 16px\;">: Friday\, April 4\,&nbsp\;2025</span><br />\n<span style="font-size:16px\;"><span style="font-family:arial\;"><strong style="box-sizing: border-box\;">Time</strong>: Noon - 4 p.m.<br style="box-sizing: border-box\;" />\n<strong style="box-sizing: border-box\;">Ages</strong>: 13-18 years old</span></span></p>\n</div>\n
LOCATION:Scavenger Hunt search areas will be safe local destinations and landmarks within Riverton City.
UID:e.1263.15130
SEQUENCE:3
DTSTAMP:20260423T033612Z
URL:http://business.southvalleychamber.com/events/details/riverton-city-teen-egg-streme-chase-2025-15130
END:VEVENT

END:VCALENDAR
