BEGIN:VCALENDAR
VERSION:2.0
PRODID:-//ChamberMaster//Event Calendar 2.0//EN
METHOD:PUBLISH
X-PUBLISHED-TTL:P3D
REFRESH-INTERVAL:P3D
CALSCALE:GREGORIAN
BEGIN:VEVENT
DTSTART:20251014T000000Z
DTEND:20251014T020000Z
X-MICROSOFT-CDO-ALLDAYEVENT:FALSE
SUMMARY:Riverton Halloween Bash 2025
DESCRIPTION:Halloween Bash Family Activities\n\nCome out to Riverton City Park for a FREE Halloween event packed with candy\, games\, and activities for all ages! Younger children will love the age-appropriate games and activities\, while older kids can test their courage in the Scare Rodeo spook alley. Be sure to stop by our themed photo station to capture your Halloween memories! Families are encouraged to come dressed in costume and enjoy a night of festive fun for everyone.\n\n\n\nChick-fil-A will be offering a delicious combo of their signature chicken sandwich\, crispy chips\, and a refreshing drink for $6.50.\n\n \nWhen: Monday\, October 13\, 2025\n\nTime: 6 - 8 p.m.\n\nLocation: Riverton City Park\, 12600 S 1452 W\, Riverton\, Utah 84065
X-ALT-DESC;FMTTYPE=text/html:<strong style="box-sizing: border-box\; color: rgb(99\, 113\, 122)\; font-family: Poppins\, sans-serif\; font-size: 15px\;"><span style="box-sizing: border-box\; color: rgb(255\, 102\, 0)\; font-size: 24px\;">Halloween Bash Family Activities</span></strong><br style="box-sizing: border-box\; color: rgb(99\, 113\, 122)\; font-family: Poppins\, sans-serif\; font-size: 15px\;" />\n<span style="color: rgb(99\, 113\, 122)\; font-family: Poppins\, sans-serif\; font-size: 15px\;">Come out to Riverton City Park for a FREE Halloween event packed with candy\, games\, and activities for all ages! Younger children will love the age-appropriate games and activities\, while older kids can test their courage in the Scare Rodeo spook alley. Be sure to stop by our themed photo station to capture your Halloween memories! Families are encouraged to come dressed in costume and enjoy a night of festive fun for everyone.</span><br style="box-sizing: border-box\; color: rgb(99\, 113\, 122)\; font-family: Poppins\, sans-serif\; font-size: 15px\;" />\n<br style="box-sizing: border-box\; color: rgb(99\, 113\, 122)\; font-family: Poppins\, sans-serif\; font-size: 15px\;" />\n<span style="color: rgb(99\, 113\, 122)\; font-family: Poppins\, sans-serif\; font-size: 15px\;">Chick-fil-A will be offering a delicious combo of their signature chicken sandwich\, crispy chips\, and a refreshing drink for $6.50.</span><br style="box-sizing: border-box\; color: rgb(99\, 113\, 122)\; font-family: Poppins\, sans-serif\; font-size: 15px\;" />\n&nbsp\;\n<div style="box-sizing: border-box\; color: rgb(99\, 113\, 122)\; font-family: Poppins\, sans-serif\; font-size: 15px\;"><strong style="box-sizing: border-box\;"><span style="box-sizing: border-box\; color: rgb(247\, 140\, 0)\;">When</span>:&nbsp\;</strong>Monday\, October 13\, 2025</div>\n\n<div style="box-sizing: border-box\; color: rgb(99\, 113\, 122)\; font-family: Poppins\, sans-serif\; font-size: 15px\;"><strong style="box-sizing: border-box\;"><span style="box-sizing: border-box\; color: rgb(247\, 140\, 0)\;">Time</span>:</strong>&nbsp\;6 - 8 p.m.<br style="box-sizing: border-box\;" />\n<strong style="box-sizing: border-box\;"><span style="box-sizing: border-box\; color: rgb(247\, 140\, 0)\;">Location</span>:&nbsp\;</strong>Riverton City Park\, 12600 S 1452 W\, Riverton\, Utah 84065</div>\n
LOCATION:Location: Riverton City Park\, 12600 S 1452 W\, Riverton\, Utah 84065
UID:e.1263.15158
SEQUENCE:3
DTSTAMP:20260420T172347Z
URL:http://business.southvalleychamber.com/events/details/riverton-halloween-bash-2025-15158
END:VEVENT

END:VCALENDAR
