BEGIN:VCALENDAR
VERSION:2.0
PRODID:-//ChamberMaster//Event Calendar 2.0//EN
METHOD:PUBLISH
X-PUBLISHED-TTL:P3D
REFRESH-INTERVAL:P3D
CALSCALE:GREGORIAN
BEGIN:VEVENT
DTSTART:20260321T000000Z
DTEND:20260321T050000Z
X-MICROSOFT-CDO-ALLDAYEVENT:FALSE
SUMMARY:Rocky Mountain Golden Gloves State Tournament
DESCRIPTION:Athletes from across Utah will compete in sanctioned amateur bouts under USA Boxing rules. Champions earn the right to represent Utah at the prestigious Rocky Mountain Golden Gloves tournament.\n\nThis event showcases discipline\, heart\, and high-level competition   a proving ground for fighters looking to take the next step in their boxing careers.\n\nSpectators can expect intense matchups\, community support\, and a powerful display of Utah boxing talent
X-ALT-DESC;FMTTYPE=text/html:<p>Athletes from across Utah will compete in sanctioned amateur bouts under USA Boxing rules. Champions earn the right to represent Utah at the prestigious Rocky Mountain Golden Gloves tournament.</p>\n\n<p>This event showcases discipline\, heart\, and high-level competition &mdash\; a proving ground for fighters looking to take the next step in their boxing careers.</p>\n\n<p>Spectators can expect intense matchups\, community support\, and a powerful display of Utah boxing talent</p>\n
LOCATION:Fullmer Legacy Center 10960 South Park Rd South Jordan\, UT 84095
UID:e.1263.18979
SEQUENCE:3
DTSTAMP:20260423T110126Z
URL:http://business.southvalleychamber.com/events/details/rocky-mountain-golden-gloves-state-tournament-18979
END:VEVENT

END:VCALENDAR
