BEGIN:VCALENDAR
VERSION:2.0
PRODID:-//ChamberMaster//Event Calendar 2.0//EN
METHOD:PUBLISH
X-PUBLISHED-TTL:P3D
REFRESH-INTERVAL:P3D
CALSCALE:GREGORIAN
BEGIN:VEVENT
DTSTART;VALUE=DATE:20250704
DTEND;VALUE=DATE:20250705
TRANSP:TRANSPARENT
X-MICROSOFT-CDO-ALLDAYEVENT:TRUE
SUMMARY:Sandy City July 4th Celebration
DESCRIPTION:Join the biggest 4th of July celebration in Salt Lake County! We will have our annual 5k morning race\, free activities for the family\, bounce houses\, K9 demonstrations\, an incredible market with local businesses\, bands performing throughout the day\, a hometown evening parade\, food vendors\, and a huge free concert with a firework finale and so much more!\n\nPromenade Activities\n\n6:45 am Flag Raising & National Anthem \n\n7:00 am Sandy Classic 4th of July 5K\n\n11:00 am - 1:00 pm Sandy Fire Dept. truck display (subject to Fire Dept. truck availability)\n\n2:00 pm Fire truck water spray (subject to Fire Dept. truck availability)\n\n10:00 am\, 11:30 am\, 1:00 pm Police K9 Show-- Come see our fantastic four-legged o cers in action!\n\n10:00 am - 2:00 pm Youth Craft Fair-- free face painting\, crafts\, & fun! \n\n10:00 am - 4:00 pm   Free miniature golf\n\n10:00 am - 10:00 pm - In atables\, activities\, food and vendor booths from local artists & businesses\n\nAll Day Sandy Police Activities All Day Sandy Fire Mobile Unit\n\n12:30 pm\, 2:00 pm\, 3:30 pm -  50/50 BMX Bike Performers\n\n\n\nCommunity Entertainment Lineup\n\n11:30 am - 1 pm -  Summit Big Band\n\n1:20 - 1:35 pm - The Groove Robbers- Alta High winner of The Battle of the Bands\n\n1:50 - 2:30 pm The Liberal Media & Annalee Anderson- Hillcrest High winners of The Battle of the Bands\n\n2:50 - 4:20 pm School of Rock- various bands\n\n\n\nEvening Events\n\n6:00 pm Sandy 4th of July Parade\n\n7:30 pm - 11:00 pm Free concert with the Salamanders\, including firework post-show encore!\n\n10:00 pm Firework Sky Concert- tune into B98.7
X-ALT-DESC;FMTTYPE=text/html:<p><span style="font-size:16px\;"><span style="font-family:arial\;">Join the biggest 4th of July celebration in Salt Lake County! We will have our annual 5k morning race\, free activities for the family\, bounce houses\, K9 demonstrations\, an incredible market with local businesses\, bands performing throughout the day\, a hometown evening parade\, food vendors\, and a huge free concert with a firework finale and so much more!</span></span></p>\n\n<p><strong><span style="font-family: arial\; font-size: 16px\;"><u>Promenade Activities</u></span></strong><br />\n<span style="font-size:16px\;"><span style="font-family:arial\;">6:45 am&nbsp\;Flag Raising &amp\; National Anthem&nbsp\;</span></span><br />\n<span style="font-size:16px\;"><span style="font-family:arial\;">7:00 am&nbsp\;Sandy Classic 4th of July 5K</span></span><br />\n<span style="font-size:16px\;"><span style="font-family:arial\;">11:00 am - 1:00 pm&nbsp\;Sandy Fire Dept. truck display&nbsp\;(subject to Fire Dept. truck availability)</span></span><br />\n<span style="font-size:16px\;"><span style="font-family:arial\;">2:00 pm&nbsp\;Fire truck water spray (subject to Fire Dept. truck availability)</span></span><br />\n<span style="font-size:16px\;"><span style="font-family:arial\;">10:00 am\, 11:30 am\, 1:00 pm&nbsp\;Police K9 Show-- Come see our fantastic four-legged o&#64259\;cers in action!</span></span><br />\n<span style="font-size:16px\;"><span style="font-family:arial\;">10:00 am - 2:00 pm&nbsp\;Youth Craft Fair-- free face painting\, crafts\, &amp\; fun!&nbsp\;</span></span><br />\n<span style="font-size:16px\;"><span style="font-family:arial\;">10:00 am - 4:00 pm &nbsp\;&nbsp\;Free miniature golf</span></span><br />\n<span style="font-size:16px\;"><span style="font-family:arial\;">10:00 am - 10:00 pm -&nbsp\;In&#64258\;atables\, activities\, food and vendor booths from local artists &amp\; businesses</span></span><br />\n<span style="font-size:16px\;"><span style="font-family:arial\;">All Day Sandy Police Activities All Day Sandy Fire Mobile Unit</span></span><br />\n<span style="font-size:16px\;"><span style="font-family:arial\;">12:30 pm\, 2:00 pm\, 3:30 pm -&nbsp\;&nbsp\;50/50 BMX Bike Performers</span></span></p>\n\n<p><br />\n<strong><span style="font-family: arial\; font-size: 16px\;"><u>Community Entertainment Lineup</u></span></strong></p>\n\n<p id="isPasted"><span style="font-size:16px\;"><span style="font-family:arial\;">11:30 am - 1 pm -&nbsp\;&nbsp\;Summit Big Band</span></span><br />\n<span style="font-size:16px\;"><span style="font-family:arial\;">1:20 - 1:35 pm -&nbsp\;The Groove Robbers- Alta High winner of&nbsp\;The Battle of the Bands</span></span><br />\n<span style="font-size:16px\;"><span style="font-family:arial\;">1:50 - 2:30 pm&nbsp\;The Liberal Media&nbsp\;&amp\; Annalee Anderson- Hillcrest High winners of&nbsp\;The Battle of the Bands</span></span><br />\n<span style="font-size:16px\;"><span style="font-family:arial\;">2:50 - 4:20 pm&nbsp\;School of Rock- various bands</span></span></p>\n\n<p><br />\n<u><strong><span style="font-size:16px\;"><span style="font-family:arial\;">Evening Events</span></span></strong></u></p>\n\n<p><span style="font-size:16px\;"><span style="font-family:arial\;">6:00 pm&nbsp\;Sandy 4th of July Parade</span></span><br />\n<span style="font-size:16px\;"><span style="font-family:arial\;">7:30 pm - 11:00 pm&nbsp\;Free concert with the&nbsp\;Salamanders\,&nbsp\;including firework post-show encore!</span></span><br />\n<span style="font-size:16px\;"><span style="font-family:arial\;">10:00 pm&nbsp\;Firework Sky Concert- tune into B98.7&nbsp\;</span></span></p>\n
LOCATION:Sandy Promenade | 10000 S. 172 W.
UID:e.1263.15268
SEQUENCE:3
DTSTAMP:20260423T120751Z
URL:http://business.southvalleychamber.com/events/details/sandy-city-july-4th-celebration-15268
END:VEVENT

END:VCALENDAR
