BEGIN:VCALENDAR
VERSION:2.0
PRODID:-//ChamberMaster//Event Calendar 2.0//EN
METHOD:PUBLISH
X-PUBLISHED-TTL:P3D
REFRESH-INTERVAL:P3D
CALSCALE:GREGORIAN
BEGIN:VEVENT
DTSTART:20251014T131000Z
DTEND:20251014T150000Z
X-MICROSOFT-CDO-ALLDAYEVENT:FALSE
SUMMARY:Sandy emPower Networking Breakfast
DESCRIPTION:If you've never been to the Sandy emPower Breakfast\, here's what you need to know it's not your typical networking group. No awkward pitches. No forced referrals. Just a room full of engaged business owners and professionals building real relationships\, sharing insights\, and finding ways to support each other's growth.
X-ALT-DESC;FMTTYPE=text/html:<span style="font-size:16px"><span style="font-family:arial\,helvetica\,sans-serif">If you&rsquo\;ve never been to the <strong>Sandy emPower Breakfast</strong>\, here&rsquo\;s what you need to know&mdash\;it&rsquo\;s&nbsp\;not&nbsp\;your typical networking group. No awkward pitches. No forced referrals. Just a room full of engaged business owners and professionals building real relationships\, sharing insights\, and finding ways to support each other&rsquo\;s growth.</span></span>
LOCATION:emPower Breakfast Sandy Legends Pub & Grill Southtown | 10631 S. Holiday Park Drive\, Sandy\, UT
UID:e.1263.18196
SEQUENCE:3
DTSTAMP:20260420T141658Z
URL:http://business.southvalleychamber.com/events/details/sandy-empower-breakfast-18196
END:VEVENT

END:VCALENDAR
