BEGIN:VCALENDAR
VERSION:2.0
PRODID:-//ChamberMaster//Event Calendar 2.0//EN
METHOD:PUBLISH
X-PUBLISHED-TTL:P3D
REFRESH-INTERVAL:P3D
CALSCALE:GREGORIAN
BEGIN:VEVENT
DTSTART;VALUE=DATE:20250808
DTEND;VALUE=DATE:20250810
TRANSP:TRANSPARENT
X-MICROSOFT-CDO-ALLDAYEVENT:TRUE
SUMMARY:Sandy's Annual Hot Air Balloon Festival 2025
DESCRIPTION:Don't miss Sandy's 18th Annual Hot Air Balloon Festival 2025! Enjoy early morning hot air balloon launches on Friday and Saturday morning\, weather permitting. Then join us Saturday evening for our Balloon Glow -- dance party\, inflatables\, drone show and free activities. \n\n \nEARLY MORNING BALLOON LAUNCHES (*weather permitting):\n\n\n	Dates: Friday & Saturday\, August 8 & 9\n	Time: Sunrise (approximately 6:30 a.m.)\n	Location: Storm Mountain Park - 980 East 11400 South\n	Highlights: Tethered rides will be available (first-served\, first-come) 50-80 feet in the air! We'll also have food trucks\, free latex balloons\, and a morning DJ. (Hot air balloons will launch weather permitting.)\n\n\nSATURDAY EVENING BALLOON GLOW (*weather permitting):\n\nWhat's a Balloon Glow? When the hot air balloons remain on the ground\, and the burner is ignited creating the balloons to illuminate in the dark!\n\n\n	Date: Saturday\, August 9\n	Time: 7:00 p.m. - 10:30 p.m.\n	Location: City Promenade - 10000 S. Centennial Parkway\n	Highlights: Hot Air Balloon Glow\, food trucks\, DJ dance party\, bounce houses\, free face painting/balloon twisting/caricatures\, and a spectacular drone show! \n\n\nSPECTACULAR DRONE SHOW (*weather permitting):\n\n\n	Date: Saturday\, August 9\n	Time: 10:00 p.m. (weather may alter start time)\n	Location: City Promenade - 10000 S. Centennial Parkway. \n\n\n\n\nThis is a FREE event to the public. Sandy City is not permitted to arrange private rides in the hot air balloons.\n\n\n\nNOTE: Please leave your personal drones and dogs at home for these events. Thank you!\n\n*CHECK OUR SOCIAL MEDIA CHANNELS FOR LIVE UPDATES/WEATHER ISSUES.
X-ALT-DESC;FMTTYPE=text/html:<span style="font-size:16px\;"><span style="font-family:arial\;">Don&rsquo\;t miss Sandy&rsquo\;s 18th Annual Hot Air Balloon Festival 2025! Enjoy early morning hot air balloon launches on Friday and Saturday morning\, weather permitting. Then join us Saturday evening for our Balloon Glow -- dance party\, inflatables\, drone show and free activities.&nbsp\;</span></span><br />\n&nbsp\;\n<h2><strong><span style="font-size:16px\;"><span style="font-family:arial\;">EARLY MORNING BALLOON LAUNCHES (*weather permitting):</span></span></strong></h2>\n\n<ul>\n	<li><span style="font-size:16px\;"><span style="font-family:arial\;">Dates:&nbsp\;Friday &amp\; Saturday\, August 8 &amp\; 9</span></span></li>\n	<li><span style="font-size:16px\;"><span style="font-family:arial\;">Time:&nbsp\;Sunrise (approximately 6:30 a.m.)</span></span></li>\n	<li><span style="font-size:16px\;"><span style="font-family:arial\;">Location:&nbsp\;Storm Mountain Park - 980 East 11400 South</span></span></li>\n	<li><span style="font-size:16px\;"><span style="font-family:arial\;">Highlights:&nbsp\;Tethered rides will be available (first-served\, first-come) 50-80 feet in the air! We&rsquo\;ll also have food trucks\, free latex balloons\, and a morning DJ. (Hot air balloons will launch weather permitting.)</span></span></li>\n</ul>\n\n<h2><strong><span style="font-size:16px\;"><span style="font-family:arial\;">SATURDAY EVENING BALLOON GLOW (*weather permitting):</span></span></strong></h2>\n\n<p><span style="font-size:16px\;"><span style="font-family:arial\;">What&rsquo\;s a Balloon Glow? When the hot air balloons remain on the ground\, and the burner is ignited creating the balloons to illuminate in the dark!</span></span></p>\n\n<ul>\n	<li><span style="font-size:16px\;"><span style="font-family:arial\;">Date:&nbsp\;Saturday\, August 9</span></span></li>\n	<li><span style="font-size:16px\;"><span style="font-family:arial\;">Time:&nbsp\;7:00 p.m. - 10:30 p.m.</span></span></li>\n	<li><span style="font-size:16px\;"><span style="font-family:arial\;">Location:&nbsp\;City Promenade - 10000 S. Centennial Parkway</span></span></li>\n	<li><span style="font-size:16px\;"><span style="font-family:arial\;">Highlights:&nbsp\;Hot Air Balloon Glow\, food trucks\, DJ dance party\, bounce houses\, free face painting/balloon twisting/caricatures\, and a spectacular drone show!&nbsp\;</span></span></li>\n</ul>\n\n<h2><strong><span style="font-size:16px\;"><span style="font-family:arial\;">SPECTACULAR DRONE SHOW (*weather permitting):</span></span></strong></h2>\n\n<ul>\n	<li><span style="font-size:16px\;"><span style="font-family:arial\;">Date:&nbsp\;Saturday\, August 9</span></span></li>\n	<li><span style="font-size:16px\;"><span style="font-family:arial\;">Time:&nbsp\;10:00 p.m. (weather may alter start time)</span></span></li>\n	<li><span style="font-size:16px\;"><span style="font-family:arial\;">Location:&nbsp\;City Promenade - 10000 S. Centennial Parkway.&nbsp\;</span></span></li>\n</ul>\n\n<p><br />\n<span style="font-size:16px\;"><span style="font-family:arial\;">This is a FREE event to the public. Sandy City is not permitted to arrange private rides in the hot air balloons.<br />\n<br />\nNOTE: Please leave your personal drones and dogs at home for these events. Thank you!</span></span></p>\n\n<p><span style="font-size:16px\;"><span style="font-family:arial\;">*CHECK OUR SOCIAL MEDIA CHANNELS FOR LIVE UPDATES/WEATHER ISSUES.</span></span></p>\n
LOCATION:See Date/Time for specific locations.
UID:e.1263.15267
SEQUENCE:3
DTSTAMP:20260422T011336Z
URL:http://business.southvalleychamber.com/events/details/sandy-s-annual-hot-air-balloon-festival-2025-15267
END:VEVENT

END:VCALENDAR
