BEGIN:VCALENDAR
VERSION:2.0
PRODID:-//ChamberMaster//Event Calendar 2.0//EN
METHOD:PUBLISH
X-PUBLISHED-TTL:P3D
REFRESH-INTERVAL:P3D
CALSCALE:GREGORIAN
BEGIN:VEVENT
DTSTART:20250305T153000Z
DTEND:20250305T170000Z
X-MICROSOFT-CDO-ALLDAYEVENT:FALSE
SUMMARY:South Valley Chamber 101
DESCRIPTION:The South Valley Chamber 101 is designed to give prospective\, new\, and existing  members  a deep dive into chamber benefits\, events and everything else the chamber does to help your business grow! This event also provides an intimate networking opportunity as we limit each event to just 20 attendees.\n\n\n\nTake advantage of this intro to the Chamber\, making sure you are maximizing your membership! We ask that you please bring your laptop as the last 15 minutes will be spent navigating your member portal through ChamberMaster. Light refreshments will be provided. This event is free\, however registration is required.
X-ALT-DESC;FMTTYPE=text/html:<div><span style="color: rgb(27\, 27\, 27)\; font-family: arial\; font-size: 16px\; text-align: center\;">The South Valley Chamber 101 is designed to give prospective\, new\, and existing&nbsp\; members&nbsp\; a deep dive into chamber benefits\, events and everything else the chamber does to help your business grow!&nbsp\;This event also provides an intimate networking opportunity as we limit each event to just 20 attendees.</span><br style="color: rgb(27\, 27\, 27)\; font-family: arial\; font-size: 16px\; text-align: center\;" />\n<br style="color: rgb(27\, 27\, 27)\; font-family: arial\; font-size: 16px\; text-align: center\;" />\n<span style="color: rgb(27\, 27\, 27)\; font-family: arial\; font-size: 16px\; text-align: center\;">Take advantage of this intro to the Chamber\, making sure you are maximizing your membership! We ask that you please bring your laptop as the last 15 minutes will be spent navigating your member portal through ChamberMaster.&nbsp\;Light refreshments will be&nbsp\;provided.&nbsp\;</span><strong style="color: rgb(27\, 27\, 27)\; font-family: arial\; font-size: 16px\; text-align: center\;">This event is free\, however registration is required.&nbsp\;</strong></div>\n
LOCATION:South Valley Chamber Offices | 2nd Floor 9800 S Monroe St\, Sandy\, Utah (Inside the Mountain America Credit Union building) Covered parking is available in the garage between the MACU and Hale Centre Theatre buildings.
UID:e.1263.14896
SEQUENCE:3
DTSTAMP:20260423T075319Z
URL:http://business.southvalleychamber.com/events/details/south-valley-chamber-101-14896
END:VEVENT

END:VCALENDAR
