BEGIN:VCALENDAR
VERSION:2.0
PRODID:-//ChamberMaster//Event Calendar 2.0//EN
METHOD:PUBLISH
X-PUBLISHED-TTL:P3D
REFRESH-INTERVAL:P3D
CALSCALE:GREGORIAN
BEGIN:VEVENT
DTSTART:20260509T150000Z
DTEND:20260510T010000Z
X-MICROSOFT-CDO-ALLDAYEVENT:FALSE
SUMMARY:Spavia Sandy: Mother’s Day Event
DESCRIPTION:Celebrate Mom at Spavia in Sandy! \n\nJoin us for a relaxing\, rejuvenating experience featuring light refreshments as you pamper Mom and unwind together. \n\n\n\nSchedule a 30-minute facial or massage and your guest will receive a complimentary 30-minute facial or massage. This exclusive offer is available one day only-spaces are limited.\n\n\n\nReserve your spot today!
X-ALT-DESC;FMTTYPE=text/html:<span style="font-size:16px\;"><span style="font-family:arial\;"><strong>Celebrate Mom at Spavia in Sandy! </strong><br />\nJoin us for a relaxing\, rejuvenating experience featuring light refreshments as you pamper Mom and unwind together.&nbsp\;<br />\n<br />\nSchedule a 30-minute facial or massage and your guest will receive a complimentary 30-minute facial or massage.&nbsp\;This exclusive offer is available one day only-spaces are limited.<br />\n<br />\n<strong>Reserve your spot today!</strong></span></span>
LOCATION:Spavia Sandy | 10261 S State Street Suit A\, Sandy Ut
UID:e.1263.19021
SEQUENCE:3
DTSTAMP:20260420T035726Z
URL:http://business.southvalleychamber.com/events/details/spavia-sandy-mother-s-day-event-19021
END:VEVENT

END:VCALENDAR
