BEGIN:VCALENDAR
VERSION:2.0
PRODID:-//ChamberMaster//Event Calendar 2.0//EN
METHOD:PUBLISH
X-PUBLISHED-TTL:P3D
REFRESH-INTERVAL:P3D
CALSCALE:GREGORIAN
BEGIN:VEVENT
DTSTART:20250212T183000Z
DTEND:20250212T200000Z
X-MICROSOFT-CDO-ALLDAYEVENT:FALSE
SUMMARY:State of the Chamber Luncheon (Let's Do Lunch)
DESCRIPTION:Please join us as Chamber leaders reflect on the South Valley Chamber's achievements in 2024 and share their vision for driving business success and strengthening the South Valley economy in 2025 and the years ahead.
X-ALT-DESC;FMTTYPE=text/html:<font face="arial"><span style="font-size: 16px\;">Please join us as Chamber leaders reflect on the South Valley Chamber&#39\;s achievements in 2024 and share their vision for driving business success and strengthening the South Valley economy in 2025 and the years ahead.</span></font>
LOCATION:Salt Lake Community College | Miller Campus Karen Gail Miller Conference Center | Building 2 9750 S 300 W\, Sandy UT 84070 Please park on the northeast side of Building 2.
UID:e.1263.14919
SEQUENCE:3
DTSTAMP:20260425T103753Z
URL:http://business.southvalleychamber.com/events/details/state-of-the-chamber-luncheon-let-s-do-lunch-14919
END:VEVENT

END:VCALENDAR
