BEGIN:VCALENDAR
VERSION:2.0
PRODID:-//ChamberMaster//Event Calendar 2.0//EN
METHOD:PUBLISH
X-PUBLISHED-TTL:P3D
REFRESH-INTERVAL:P3D
CALSCALE:GREGORIAN
BEGIN:VEVENT
DTSTART:20251030T000000Z
DTEND:20251030T030000Z
X-MICROSOFT-CDO-ALLDAYEVENT:FALSE
SUMMARY:Titan Awards Gala
DESCRIPTION:Utah's best business executives and companies unite for one special evening to honor this year's recipients of the Titan Award. These community leaders have set themselves apart\, not because of their titles and positions\, but because of the way they lift and inspire those around them.\n\n\n\nWe are excited to announce the South Valley Chamber of Commerce 2025 Titan Award honorees and the 2025 Small Business of the Year!\n\nPlease join us in congratulating:\n\n	Jeremy and Kristin Andrus\, President & CEO\, Traeger Grills\n	Amy Rees Anderson\, Managing Partner\, REES Capital\n	Katy Welkie\, CEO\, Primary Children's Hospital & VP of Children's Health\, Intermountain Health\n	Salt Mine Productive Workspace\, Sandy\, Utah\n\n Since 2009\, the South Valley Chamber has presented the Titan Award\, our highest honor\, to business and community leaders who demonstrate long-term commitment\, civic engagement\, and meaningful impact. Honorees are selected by the Chamber's executive committee and board of directors from a pool of standout nominees. Now in its fourth year\, the Small Business of the Year award highlights a local business that embodies entrepreneurial excellence and community impact.\n\n\n\nLearn more: southvalleychamber.com/titanawards
X-ALT-DESC;FMTTYPE=text/html:<span style="font-size:16px\;"><span style="font-family:sans-serif\,arial\,verdana\,trebuchet ms\;"><span style="color:#333333\;"><span style="font-family:arial\;">Utah&#39\;s best business executives and companies unite for one special evening to honor this year&#39\;s recipients of the Titan Award. These community leaders have set themselves apart\, not because of their titles and&nbsp\;positions\, but because of the way they lift and inspire those around them.</span></span></span></span><br style="color:rgb(51\, 51\, 51)\;font-family:arial\;font-size:16px\;" />\n<br style="color:rgb(51\, 51\, 51)\;font-family:sans-serif\, Arial\, Verdana\, Trebuchet MS\;font-size:13px\;" />\n<span style="font-size:16px\;"><span style="font-family:sans-serif\,arial\,verdana\,trebuchet ms\;"><span style="color:#333333\;"><span style="font-family:arial\;">We are excited to announce the South Valley Chamber of Commerce 2025 Titan Award honorees and the 2025 Small Business of the Year!<br />\nPlease join us in congratulating:</span></span></span></span>\n<ul>\n	<li><span style="font-size:16px\;"><span style="font-family:arial\;">Jeremy and Kristin Andrus\, President &amp\; CEO\, Traeger Grills</span></span></li>\n	<li><span style="font-size:16px\;"><span style="font-family:arial\;">Amy Rees Anderson\, Managing Partner\, REES Capital</span></span></li>\n	<li><span style="font-size:16px\;"><span style="font-family:arial\;">Katy Welkie\, CEO\, Primary Children&#39\;s Hospital &amp\; VP of Children&#39\;s Health\, Intermountain Health</span></span></li>\n	<li><span style="font-size:16px\;"><span style="font-family:arial\;">Salt Mine Productive Workspace\, Sandy\, Utah</span></span></li>\n</ul>\n<span style="font-size:16px\;"><span style="font-family:sans-serif\,arial\,verdana\,trebuchet ms\;"><span style="color:#333333\;"><span style="font-family:arial\;">&#8203\;Since 2009\, the South Valley Chamber has presented the Titan Award\, our highest honor\, to business and community leaders who demonstrate long-term commitment\, civic engagement\, and meaningful impact. Honorees are selected by the Chamber&#39\;s executive committee and board of directors from a pool of standout nominees.&nbsp\;Now in its fourth year\, the&nbsp\;Small Business of the Year&nbsp\;award highlights a local business that embodies entrepreneurial excellence and community impact.</span></span></span></span><br style="color:rgb(51\, 51\, 51)\;font-family:sans-serif\, Arial\, Verdana\, Trebuchet MS\;font-size:13px\;" />\n<br style="color:rgb(51\, 51\, 51)\;font-family:sans-serif\, Arial\, Verdana\, Trebuchet MS\;font-size:13px\;" />\n<span style="white-space-collapse:preserve\;"><span style="font-size:13px\;"><span style="font-family:sans-serif\,arial\,verdana\,trebuchet ms\;"><span style="color:#333333\;"><span style="font-size:15px\;"><span segoe="" ui=""><span style="color:#080809\;">Learn more: </span></span></span></span></span></span></span><span style="white-space-collapse:preserve\;overflow-wrap:break-word\;margin-inline:0px\;padding-inline:0px\;padding-bottom:0px\;margin-bottom:0px\;margin-top:0px\;padding-top:0px\;"><span style="font-size:13px\;"><span style="font-family:sans-serif\,arial\,verdana\,trebuchet ms\;"><span style="color:#333333\;"><span style="font-size:15px\;"><span style="color:#080809\;"><span segoe="" ui=""><a attributionsrc="/privacy_sandbox/comet/register/source/?xt=AZXNIErwp4Yz_8zxybOWv4XnF4cgR4_cJB_5Xpt40ILsgzcfT9YUkXoaTdL9QVx0VOJnpbIl8E5xYhlYAK2HkIv_h8W9MFa0dEVt4-Mp9iyyBdj8dEqAA4evUh-48TtIEjvEoFLiIc2yWhMaaAtq2HA5mHqMr4rFoWjNkx8UXg9Y48-opb5aUSCBKnCiybHtQr4UzUtYVMUOGFa6xwnkHv8NvXNceXNV-LiCVv04LB-SRtVBW3ePho2EpqoesVpFx9WTMl7KKdnEdUXo_VpQ5KCNkFMhJ94dNVhnK3fuTc-U3yFv8-3v88NxSB1wTL989sCeTo1y5fCTqbLUPNi_S8VK0ntesjTREntMrjmSs7MVWMjqN7CH0pnEc1UC3orfQEdTAy7liIMtAQzWr6Lb9r1mmSKU80LMTV8cr-xW6YMXLxQ-GiKcvKbU3kKJJWXyl7Cd9iRc-XHAGK9SvlQyMe2Sz52PkbktKWJtvTyN7nuxqwo1-NoBmAj5unYL1BlHn9NsnT2VJTldHoUX22we7cRV4CvHwgT40Y7U5iepFi6mP-7L0eetzfHUMmMjLwzgRlDwUrD08y7px1Xi7ol_qrsPSvUK0DTQFec4mF86mm-jQal7cmv3JS_BkwF9BStn1kEAUR2cz64KzMwhAEQQRIUmAaUb7k_JESKkBu8o4G5LxergDAwmk68e80RAmD6zJsxPR7RsrAT8mzgml9mAVuH9rJSFkXvtkuUn0CL5AaCaW847GplNzrrYkvoAR8J_8xGrjK0d6ajfVL2-8sPbXc-nf9ivTb17WY85a4j-oCuF05eWA5FndLiRIDltSC67YyhPn1n6hgHm_dkhGyA4lNl_63rmGkq5yDa3FabUB2gY7nb7JTMSZuNfNas0YOXV5IKlKX3G-TOKs8IuIt0P9Km7jME_igZIJngCBUZKrm_riejZ3KnHDwkZEVJ6LpkL8fuF2ct9yJi403kbrEcSNMTshcpqepNtO6TGZQzbC5osD0ygsewqJy9nhbupIb5mD47u8SHVgWaDg-NNG07ABtu5mOSCP33orgtjGQpw9ykawGeZuic7MXMZvSj0dLcaA403I0Yk2E0rZaQiONTyX_FpVb6mLFFLesE4hz6cF-ILcMzIBhOx2bmg2967WSGx2NlRonkGJZ6ts71l9SxQsC1G-fbq8LF2oG1KPsy2kteviG0zK9-nxMXVZendVzVHWvVsIFiL-Mil4B-Rxxv4v0RshT8AMpw4J_VFJ56FfP3rewfgOwDZgzMtZjXMuWib0vy0ZQYw5-Uv7hrhzz1imW5AODrorAknnANoKyMbzOqJYoL9QxUuR2Fu1YKY8B7nNj_pcnseI018qoQ0uLps9ChLPp67BqqSKv0o7qumTQjn9nfBivDQHPUQC1TrwDgS3VVKnkmN6hI6ToRKDfChLU_riA9ZatFAZ5vtBuK-862nGOxla6TK7ieLshlRWcholmFxaFka3PJwIJ84X_TK9DsraUQbrK04SAq69EbrQjssATT6VyNchGW667VsUpArEQalsUotJnpDRPhFksU22BmXXRYF8aOQ7ma_4vojojHPGQ4DleL-QcwhtW253wcrvA0ckVC0SuPpacA-p31no8X-b9cpK1OtP5xLoksL1p2A1IdlGfGa58wkeYMJum3EOu32YJUpAGAAfBTnQGECKMx4aklFLCvpNffiJaxgRgdt1odz4abuVRbu2D19mouZzy0MENSYkVTWpmLnQakNQQnLKaw9Rjos0TfE2HXL1Y1jehzpHRL0A8TKwPTtkReRcENXMXOLexmCK_6KkeNIFW7zTVVndr4Qkdcx3g5sHS8E3tnaUMx9rpy-LLmPbt4zktOAbpsRDyUWFCuhASWgF6kLfpt0odtKaEVtsmGnNez1DUp0VW7EPh6Spuvsi-qS0GxDyiFd_6Ur_nUQ8MK7ozBFTtyNFhfC2fpuer_2-Rj5be6o22VBiNIimeLW9ML0IaGZH4wbvRJKsUD7NRgebm36ohGA1HKUPAdztqYdNJmvU9zIbrZvU116Lz3r7AC9U6MVcq74pt2t1pFZWiQ5yPvwAG91aiVDZt8ptjT7ZLM02h9kGSxh1g56NedhPIolasJt_x1Tw9iiOgFIfuT9eP5rPTibT-sm6FPUsH_6ScIuDkmbso-WqZrbZlfu318GZVbQ4_x_8HqE5LjIu0_wlub6ogza7NzK26MA4ickzfS0dpIcy5_b_ZKnY_pFrnW6R3h438i5nEJ1vpm_IcxrCcQjAJWKmq1Bv3wR2C_GD_o7e_gabtueEMIdlCmeBYSnOVpCAmlW8xC9nBDwssw3oOifBsH1uKG_CKX7TG8HmWjKJlXP2TRoKMnk-f4aL7WteR2DA80ZqFEMazSB-9r5mHAdwsBq5ul-x82maH9GCGITM67MOcKcGNVRPUk6bUyWJ5UK7OkP9mn_S6okyPy2gUrL5gB2yH5vMkQGgTcmnZXwA-yAxKVdNIXKxvZPTgliJiCNmxGKOrBogV475rG_GcSQG_8i41KJ2CKqel9VnzTeeJ354wPELSUEPdmHUZlhx0e2Hi6eC4Xx1iblCK5NflDtjNHIoUYyidw4bWAV2j62Ng" href="http://southvalleychamber.com/titanawards?fbclid=IwZXh0bgNhZW0CMTAAYnJpZBExNUZwMnBnTXJYdHY5U3NTbAEeIO74gshwTbaSSCFT360AptSaMJlhBKko6PRXQ1zAFeIKbW2a1ewf6MFmUHU_aem_US8SNgrEL388NC9IBY8Saw" rel="nofollow noreferrer" role="link" style="color:rgb(0\, 100\, 209)\;cursor:pointer\;text-decoration-line:none\;text-align:inherit\;list-style-type:none\;box-sizing:border-box\;outline:none\;font-weight:600\;touch-action:manipulation\;display:inline\;border-inline-width:0px\;margin-inline:0px\;border-inline-style:none\;padding-inline:0px\;padding-bottom:0px\;border-top-style:none\;border-bottom-width:0px\;border-bottom-style:none\;border-top-width:0px\;margin-bottom:0px\;margin-top:0px\;padding-top:0px\;font-family:inherit\;" tabindex="0" target="_blank">southvalleychamber.com/titanawards</a></span></span></span></span></span></span></span>
LOCATION:
UID:e.1263.15197
SEQUENCE:3
DTSTAMP:20260420T172643Z
URL:http://business.southvalleychamber.com/events/details/titan-awards-gala-15197
END:VEVENT

END:VCALENDAR
