BEGIN:VCALENDAR
VERSION:2.0
PRODID:-//ChamberMaster//Event Calendar 2.0//EN
METHOD:PUBLISH
X-PUBLISHED-TTL:P3D
REFRESH-INTERVAL:P3D
CALSCALE:GREGORIAN
BEGIN:VEVENT
DTSTART:20251011T150000Z
DTEND:20251011T180000Z
X-MICROSOFT-CDO-ALLDAYEVENT:FALSE
SUMMARY:Walk to End Alzheimer's Utah County
DESCRIPTION:Held annually in more than 600 communities nationwide\, the Alzheimer's Association Walk to End Alzheimer's  is the world's largest fundraiser for Alzheimer's care\, support and research. This inspiring event calls on participants of all ages and abilities to join the fight against the disease.\n\nSince 1989\, the Alzheimer's Association mobilized millions of Americans in the Alzheimer's Association Memory Walk  \; now the Alzheimer's Association is continuing to lead the way with Walk to End Alzheimer's.\n\n \n\nWhile there is no fee to register for Walk\, all participants are encouraged to raise critical funds that allow the Alzheimer's Association to provide 24/7 care and support and advance research toward methods of prevention\, treatment and\, ultimately\, a cure.
X-ALT-DESC;FMTTYPE=text/html:<p><span style="font-size:16px\;"><span style="font-family:arial\;">Held annually in more than 600 communities nationwide\, the Alzheimer&#39\;s Association Walk to End Alzheimer&#39\;s&reg\;&nbsp\;is the world&#39\;s largest fundraiser for Alzheimer&#39\;s care\, support and research. This inspiring event calls on participants of all ages and abilities to join the fight against the disease.</span></span></p>\n\n<p><span style="font-size:16px\;"><span style="font-family:arial\;">Since 1989\, the Alzheimer&rsquo\;s Association mobilized millions of Americans in the Alzheimer&#39\;s Association Memory Walk&reg\; \; now the Alzheimer&#39\;s Association is continuing to lead the way with Walk to End Alzheimer&#39\;s.</span></span><br />\n&nbsp\;</p>\n\n<p><span style="font-size:16px\;"><span style="font-family:arial\;">While there is no fee to register for Walk\, all participants are encouraged to raise critical funds that allow the Alzheimer&rsquo\;s Association to provide 24/7 care and support and advance research toward methods of prevention\, treatment and\, ultimately\, a cure.</span></span></p>\n
LOCATION:Location: The Shops at Riverwoods | 4801 N. University Ave. in Provo\, UT 84604 Map it
UID:e.1263.15236
SEQUENCE:3
DTSTAMP:20260420T141913Z
URL:http://business.southvalleychamber.com/events/details/walk-to-end-alzheimer-s-utah-county-15236
END:VEVENT

END:VCALENDAR
