BEGIN:VCALENDAR
VERSION:2.0
PRODID:-//ChamberMaster//Event Calendar 2.0//EN
METHOD:PUBLISH
X-PUBLISHED-TTL:P3D
REFRESH-INTERVAL:P3D
CALSCALE:GREGORIAN
BEGIN:VEVENT
DTSTART:20251114T190000Z
DTEND:20251114T213000Z
X-MICROSOFT-CDO-ALLDAYEVENT:FALSE
SUMMARY:Zions Bank Daybreak Open House
DESCRIPTION:Open House at the Zions Bank Daybreak branch.  Come meet James Christensen\, the new Branch Manager and the rest of our team.  We will have catering by Village Baker and Partners on site to discuss your banking needs.
X-ALT-DESC;FMTTYPE=text/html:<span style="font-size:16px\;"><span style="font-family:arial\;"><strong>Open House at the Zions Bank Daybreak branch.&nbsp\; </strong>Come meet James Christensen\, the new Branch Manager and the rest of our team.&nbsp\; We will have catering by Village Baker and Partners on site to discuss your banking needs.&nbsp\;&nbsp\;</span></span>
LOCATION:Zions Bank - Daybreak 4753 W. Daybreak Parkway South Jordan\, UT 84009
UID:e.1263.18234
SEQUENCE:3
DTSTAMP:20260424T084026Z
URL:http://business.southvalleychamber.com/events/details/zions-bank-daybreak-open-house-18234
END:VEVENT

END:VCALENDAR
