BEGIN:VCALENDAR
VERSION:2.0
PRODID:-//ChamberMaster//Event Calendar 2.0//EN
METHOD:PUBLISH
X-PUBLISHED-TTL:P3D
REFRESH-INTERVAL:P3D
CALSCALE:GREGORIAN
BEGIN:VEVENT
DTSTART:20250513T230000Z
DTEND:20250514T010000Z
X-MICROSOFT-CDO-ALLDAYEVENT:FALSE
SUMMARY:2025 Shark Tank
DESCRIPTION:Bright Minds and Big Ideas!\n\nJoin us for an inspiring evening\, where Utah's top young entrepreneurs bring their business dreams to life.\n\n\n\nDECA and FBLA state competition winners will face off in the South Valley Shark Tank for a chance to win over $9\,000 in cash prizes. Students will have the opportunity to pitch their business plan to a panel of real investors and business professionals.\n\n\n\nPrizes:  1st Place: $5\,000 | 2nd Place: $3\,000 | 3rd Place: $1\,500
X-ALT-DESC;FMTTYPE=text/html:<p class="paragraph" style="margin:0in\;vertical-align:baseline"><span style="font-size:16px\;"><span style="font-family:arial\;"><span class="normaltextrun"><span style="color: black\;"><span style="font-size:18px\;"><strong>Bright Minds and Big Ideas!</strong></span><br />\nJoin us for an inspiring evening\, where Utah&#39\;s top young entrepreneurs bring their business dreams to life.<br />\n<br />\nDECA and FBLA state competition winners will face off in the South Valley Shark Tank for a chance to win over $9\,000 in cash prizes.&nbsp\;Students will have the opportunity to pitch their business plan to a panel of real investors and business professionals.<br />\n<br />\nPrizes:&nbsp\;&nbsp\;1st Place: $5\,000 |&nbsp\;2nd Place: $3\,000 |&nbsp\;3rd Place: $1\,500</span></span></span></span><br />\n<span style="font-size:9.0pt\;font-family:&quot\;Segoe UI&quot\;\,sans-serif"><o:p></o:p></span></p>\n
LOCATION:Loveland Living Planet Aquarium 12033 S Lone Peak Parkway in Draper PLEASE ENTER THROUGH THE WELCOME CENTER FROM PARKING LOT\, AND LET ATTENDANT KNOW YOU ARE WITH THE SHARK TANK EVENT. - ACQUARIUM WILL BE OPEN TO GUESTS AFTER THE EVENT UNTIL 9PM. -
UID:e.1263.15101
SEQUENCE:3
DTSTAMP:20260423T012532Z
URL:https://business.southvalleychamber.com/events/details/2025-shark-tank-15101
END:VEVENT

END:VCALENDAR
