BEGIN:VCALENDAR
VERSION:2.0
PRODID:-//ChamberMaster//Event Calendar 2.0//EN
METHOD:PUBLISH
X-PUBLISHED-TTL:P3D
REFRESH-INTERVAL:P3D
CALSCALE:GREGORIAN
BEGIN:VEVENT
DTSTART:20250503T000000Z
DTEND:20250503T030000Z
X-MICROSOFT-CDO-ALLDAYEVENT:FALSE
SUMMARY:Autism Solutions Academy - Inclusion Matters Gala
DESCRIPTION:Autism Solutions Academy is hosting the third annual Inclusion Matters Gala on Friday\, May 2\, 2025. The evening will include a catered dinner\, keynote speaker Levi Harris (Utah based film director who casts neurodiverse actors)\, and an auction. This year we are pleased to share that we will have partnered with the AmFund to include national and international trips as part of our auction items! \n\n100% of donations will go towards the Autism Solutions Academy Scholarship Fund\, which helps us continually offer the best possible education to all our students.\n\nAutism Solutions Academy is a 501(c)(3) non-profit school in Utah with locations in Salt Lake and Davis counties. We are a thriving private school for autistic children and youth. We primarily serve ages 3-18. Classes are no larger than 10 students\, and students receive 1:1 support from therapists. Our program can mean the difference between a child never learning to read and learning to read now\, so they can thrive academically as they grow. Autism Solutions Academy strives to incorporate the community in our efforts\, so we regularly have visitors like museums\, petting zoos\, artists\, and characters come work with our students. \n\nWill you consider joining our mission this year by attending the third annual Inclusion Matters Gala?
X-ALT-DESC;FMTTYPE=text/html:<p><span style="font-size:16px\;"><span style="font-family:arial\;">Autism Solutions Academy is hosting the third annual Inclusion Matters Gala on Friday\, May 2\, 2025. The evening will include a catered dinner\, keynote speaker Levi Harris (Utah based film director who casts neurodiverse actors)\, and an auction. This year we are pleased to share that we will have partnered with the AmFund to include national and international trips as part of our auction items!&nbsp\;</span></span></p>\n\n<p><span style="font-size:16px\;"><span style="font-family:arial\;">100% of donations will go towards the Autism Solutions Academy Scholarship Fund\, which helps us continually offer the best possible education to all our students.</span></span></p>\n\n<p><span style="font-size:16px\;"><span style="font-family:arial\;">Autism Solutions Academy is a 501(c)(3) non-profit school in Utah with locations in Salt Lake and Davis counties. We are a thriving private school for autistic children and youth. We primarily serve ages 3-18. Classes are no larger than 10 students\, and students receive 1:1 support from therapists. Our program can mean the difference between a child never learning to read and learning to read now\, so they can thrive academically as they grow. Autism Solutions Academy strives to incorporate the community in our efforts\, so we regularly have visitors like museums\, petting zoos\, artists\, and characters come work with our students.&nbsp\;</span></span></p>\n\n<p><span style="font-size:16px\;"><span style="font-family:arial\;">Will you consider joining our mission this year by attending the third annual Inclusion Matters Gala?</span></span></p>\n
LOCATION:Thanksgiving Point - Show Barn 2476 W. Sycamore\, Lehi\, UT 84043
UID:e.1263.14912
SEQUENCE:3
DTSTAMP:20260422T222045Z
URL:https://business.southvalleychamber.com/events/details/autism-solutions-academy-inclusion-matters-gala-14912
END:VEVENT

END:VCALENDAR
