BEGIN:VCALENDAR
VERSION:2.0
PRODID:-//ChamberMaster//Event Calendar 2.0//EN
METHOD:PUBLISH
X-PUBLISHED-TTL:P3D
REFRESH-INTERVAL:P3D
CALSCALE:GREGORIAN
BEGIN:VEVENT
DTSTART:20250520T000000Z
DTEND:20250521T020000Z
X-MICROSOFT-CDO-ALLDAYEVENT:FALSE
SUMMARY:Bluffdale City's "Love Where You Live" event
DESCRIPTION:Love Where You Live 2025\n\n\n\nSince 2021\, this yearly event is to connect with Bluffdale City Leaders\, Staff\, and Community Partners in a fun night celebrating all things Bluffdale\n\n\n\nTuesday\, May 20\, 2025 | 6 - 8 pm\n\nDay Ranch Park\, Harmon Day Drive\n\nThe fun starts at 6 pm! \n\n\n\nLive fire demonstrations throughout the night by the Fire Department. \n\nFree make & take art project with the Bluffdale Arts.\n\nCity Passport game for a prize from the City Council. \n\nFree trees from the Parks Department. \n\nLots of swag!
X-ALT-DESC;FMTTYPE=text/html:<span style="font-size:16px\;"><span style="font-family:arial\;"><strong>Love Where You Live 2025</strong><br />\n<br />\nSince 2021\, this yearly event is to connect with Bluffdale City Leaders\, Staff\, and Community Partners in a fun night celebrating all things Bluffdale<br />\n<br />\n<strong>Tuesday\, May 20\, 2025 | 6 - 8 pm</strong><br />\nDay Ranch Park\, Harmon Day Drive<br />\nThe fun starts at 6 pm!&nbsp\;<br />\n<br />\nLive fire demonstrations throughout the night by the Fire Department.&nbsp\;<br />\nFree make &amp\; take art project with the Bluffdale Arts.<br />\nCity Passport game for a prize from the City Council.&nbsp\;<br />\nFree trees from the Parks Department.&nbsp\;<br />\nLots of swag!</span></span>
LOCATION:Day Ranch Park\, Harmon Day Drive (15345 Puma Mountain Way)
UID:e.1263.15264
SEQUENCE:3
DTSTAMP:20260423T013132Z
URL:https://business.southvalleychamber.com/events/details/bluffdale-city-s-love-where-you-live-event-15264
END:VEVENT

END:VCALENDAR
