BEGIN:VCALENDAR
VERSION:2.0
PRODID:-//ChamberMaster//Event Calendar 2.0//EN
METHOD:PUBLISH
X-PUBLISHED-TTL:P3D
REFRESH-INTERVAL:P3D
CALSCALE:GREGORIAN
BEGIN:VEVENT
DTSTART:20250526T161500Z
DTEND:20250526T171500Z
X-MICROSOFT-CDO-ALLDAYEVENT:FALSE
SUMMARY:Bluffdale City - Santa and the Lights
DESCRIPTION:Memorial  Day Ceremony by American Legion Post 140\n\n\n\nMonday\, May 26\, 2025 | 10:15 am\n\nAnnual ceremony presented by the American Legion honoring the veterans from Bluffdale.
X-ALT-DESC;FMTTYPE=text/html:<h2 class="subhead1" style="box-sizing: border-box\; margin-top: 0.167em\; margin-bottom: 0px\; color: rgb(1\, 123\, 171)\; font-family: &quot\;Source Sans 3&quot\;\;"><strong><span style="font-size:16px\;"><span style="font-family:arial\;">Memorial &nbsp\;Day Ceremony by American Legion Post 140</span></span></strong></h2>\n\n<p style="box-sizing: border-box\; margin-top: 0px\; margin-bottom: 1.4em\; color: rgb(0\, 61\, 84)\; font-family: &quot\;Source Sans 3&quot\;\; font-size: 16px\;"><br />\n<span style="font-size:16px\;"><span style="font-family:arial\;"><span style="box-sizing: border-box\; font-weight: 700\;">Monday\, May 26\, 2025 |&nbsp\;10:15 am</span></span></span></p>\n\n<p style="box-sizing: border-box\; margin-top: 0px\; margin-bottom: 1.4em\; color: rgb(0\, 61\, 84)\; font-family: &quot\;Source Sans 3&quot\;\; font-size: 16px\;"><span style="font-size:16px\;"><span style="font-family:arial\;">Annual ceremony presented by the American Legion honoring the veterans from Bluffdale.</span></span></p>\n
LOCATION:Bluffdale City
UID:e.1263.15262
SEQUENCE:3
DTSTAMP:20260423T013108Z
URL:https://business.southvalleychamber.com/events/details/bluffdale-city-santa-and-the-lights-15262
END:VEVENT

END:VCALENDAR
