BEGIN:VCALENDAR
VERSION:2.0
PRODID:-//ChamberMaster//Event Calendar 2.0//EN
METHOD:PUBLISH
X-PUBLISHED-TTL:P3D
REFRESH-INTERVAL:P3D
CALSCALE:GREGORIAN
BEGIN:VEVENT
DTSTART:20240615T180000Z
DTEND:20240615T190000Z
X-MICROSOFT-CDO-ALLDAYEVENT:FALSE
SUMMARY:BODY20 Riverton - Ribbon Cutting
DESCRIPTION:Please join us Saturday\, June 15th at Noon for a ribbon cutting to welcome BODY20's newest location to Riverton!\nWHAT IS BODY20:\n\n\n\nA personalized\, technology-based workout experience that achieves results in just minutes per week. Their electro-muscle stimulation (EMS) technology creates up to 150 times more muscle contractions versus conventional training. Combined with their proprietary\, personalized workout experience\, achieve results in just 20 minutes that would require hours in a traditional gym. BODY20 has two locations - Sandy and now in Riverton.
X-ALT-DESC;FMTTYPE=text/html:<span style="font-size:16px\;"><span style="font-family:arial\;">Please join us <strong>Saturday\, June 15th&nbsp\;</strong></span></span><strong><span style="font-family: arial\; font-size: 16px\;">at Noon&nbsp\;</span></strong><span style="font-size:16px\;"><span style="font-family:arial\;">for a </span></span><span style="font-family: arial\; font-size: 16px\;">ribbon cutting&nbsp\;</span><span style="font-size:16px\;"><span style="font-family:arial\;">to welcome&nbsp\;</span></span><strong style="font-family: arial\; font-size: 16px\;">BODY20&#39\;s newest location to Riverton</strong><span style="font-size:16px\;"><span style="font-family:arial\;">!</span></span>\n<p data-aos="fade-up"><span style="font-size:16px\;"><span style="font-family:arial\;"><strong>WHAT IS BODY20:</strong><br />\n<br />\nA personalized\, technology-based workout experience that achieves results in just minutes per week.&nbsp\;</span></span><span style="font-size:16px\;"><span style="font-family:arial\;">Their electro-muscle stimulation (EMS) technology creates up to 150 times more muscle contractions versus conventional training. Combined with their proprietary\, personalized workout experience\, achieve results in just 20 minutes that would require hours in a traditional gym. BODY20 has two locations - Sandy and now in Riverton.&nbsp\;</span></span></p>\n
LOCATION:BODY20 13351 S Rock Wren Lane (STE PD-Y2) in Riverton
UID:e.1263.14816
SEQUENCE:3
DTSTAMP:20260420T063338Z
URL:https://business.southvalleychamber.com/events/details/body20-riverton-ribbon-cutting-14816
END:VEVENT

END:VCALENDAR
