BEGIN:VCALENDAR
VERSION:2.0
PRODID:-//ChamberMaster//Event Calendar 2.0//EN
METHOD:PUBLISH
X-PUBLISHED-TTL:P3D
REFRESH-INTERVAL:P3D
CALSCALE:GREGORIAN
BEGIN:VEVENT
DTSTART;VALUE=DATE:20250523
DTEND;VALUE=DATE:20250527
TRANSP:TRANSPARENT
X-MICROSOFT-CDO-ALLDAYEVENT:TRUE
SUMMARY:Chamber Office Closed for Memorial Day Weekend
DESCRIPTION:The Chamber of Commerce Office is closed Friday\, May 23 - Monday\, May 26 for Memorial Day Weekend. Please enjoy the Holiday and be safe.
X-ALT-DESC;FMTTYPE=text/html:<span style="font-size:16px\;"><span style="font-family:arial\;">The Chamber of Commerce Office is closed Friday\, May 23 - Monday\, May 26 for Memorial Day Weekend. Please enjoy the Holiday and be safe.</span></span>
LOCATION:
UID:e.1263.15223
SEQUENCE:3
DTSTAMP:20260423T012833Z
URL:https://business.southvalleychamber.com/events/details/chamber-office-closed-for-memorial-day-weekend-15223
END:VEVENT

END:VCALENDAR
